Workbook
Name Festivos: Hoja3!$D$108:$D$125
Name mes: [1]Listas!$A$1:$A$13
Name Seleccione…: Tabla7[[#All],[Seleccione…]]

Sheet Base
A1: SOLICITUD DE VACACIONES COLECTIVAS
A2: DIRECCIÓN DE TALENTO HUMANO
A5: Instrucciones: 1. En la casilla "Disfruta de vacaciones "seleccione" según sea el caso SI o NO: trabajadores que disfrutarán de vacaciones colectivas, trabajadores que disfrutaran en fechas diferentes y trabajadores que no disfrutarán de vacaciones 2. Si los funcionarios de su área van a disfrutar vacaciones colectivas por favor seleccionar la opción "SI" en la casilla "vacaciones colectivas" Automáticamente aparecerá la fecha de disfrute del periodo de vacaciones colectivas correspondiente al año en curso 3. Si va disfrutar vacaciones en fechas diferentes a las colectivas, deberá seleccionar la opción "NO" (En la casilla "vacaciones colectivas" ) y registrar las fechas, tenga en cuenta que el mínimo del disfrute son 6 días y máximo 15 días 4. Las vacaciones deben ser consecutivas, no se podrán fraccionar en diferentes fechas. 5. Una vez diligenciado el formato remitir al correo correspondenciarh@uexternado.edu.co
A9: Fecha de la solicitud
A10: Unidad Académica/Administrativa
A11: Unidad | F11: Vacaciones Colectivas | H11: Vacaciones Diferentes a las Colectivas
A12: Clase de identificación | B12: Número de identificación | C12: Apellidos y Nombres | D12: Disfruta de vacaciones | E12: vacaciones colectivas | F12: Fecha de inicio de vacaciones | G12: Fecha de fin de vacaciones | H12: Fecha de inicio de vacaciones2 | I12: Fecha Fin de vacaciones3 | J12: Cantidad días2 | K12: Aux | L12: Observaciones
A13: Seleccione… | F13: =+IF(Tabla1[[#This Row],[vacaciones colectivas]]="Si", "17/12/2026","") | G13: =+IF(Tabla1[[#This Row],[vacaciones colectivas]]="Si", "08/01/2027","") | J13: =IF(Tabla1[[#This Row],[vacaciones colectivas]]="SI",NETWORKDAYS.INTL(Tabla1[[#This Row],[Fecha de inicio de vacaciones]],Tabla1[[#This Row],[Fecha de fin de vacaciones]],1,Hoja3!$A$3:$A$180),NETWORKDAYS.INTL(Tabla1[[#This Row],[Fecha de inicio de vacaciones2]],Tabla1[[#This Row],[Fecha Fin de vacaciones3]],1,Hoja3!$A$3:$A$180)) -> 0 | K13: =+COUNTIFS(Tabla1[Número de identificación],Tabla1[[#This Row],[Número de identificación]]) -> 0
A14: Seleccione… | F14: =+IF(Tabla1[[#This Row],[vacaciones colectivas]]="Si", "17/12/2026","") | G14: =+IF(Tabla1[[#This Row],[vacaciones colectivas]]="Si", "08/01/2027","") | J14: =IF(Tabla1[[#This Row],[vacaciones colectivas]]="SI",NETWORKDAYS.INTL(Tabla1[[#This Row],[Fecha de inicio de vacaciones]],Tabla1[[#This Row],[Fecha de fin de vacaciones]],1,Hoja3!$A$3:$A$180),NETWORKDAYS.INTL(Tabla1[[#This Row],[Fecha de inicio de vacaciones2]],Tabla1[[#This Row],[Fecha Fin de vacaciones3]],1,Hoja3!$A$3:$A$180)) -> 0 | K14: =+COUNTIFS(Tabla1[Número de identificación],Tabla1[[#This Row],[Número de identificación]]) -> 0
A15: Seleccione… | F15: =+IF(Tabla1[[#This Row],[vacaciones colectivas]]="Si", "17/12/2026","") | G15: =+IF(Tabla1[[#This Row],[vacaciones colectivas]]="Si", "08/01/2027","") | J15: =IF(Tabla1[[#This Row],[vacaciones colectivas]]="SI",NETWORKDAYS.INTL(Tabla1[[#This Row],[Fecha de inicio de vacaciones]],Tabla1[[#This Row],[Fecha de fin de vacaciones]],1,Hoja3!$A$3:$A$180),NETWORKDAYS.INTL(Tabla1[[#This Row],[Fecha de inicio de vacaciones2]],Tabla1[[#This Row],[Fecha Fin de vacaciones3]],1,Hoja3!$A$3:$A$180)) -> 0 | K15: =+COUNTIFS(Tabla1[Número de identificación],Tabla1[[#This Row],[Número de identificación]]) -> 0
A16: Seleccione… | F16: =+IF(Tabla1[[#This Row],[vacaciones colectivas]]="Si", "17/12/2026","") | G16: =+IF(Tabla1[[#This Row],[vacaciones colectivas]]="Si", "08/01/2027","") | J16: =IF(Tabla1[[#This Row],[vacaciones colectivas]]="SI",NETWORKDAYS.INTL(Tabla1[[#This Row],[Fecha de inicio de vacaciones]],Tabla1[[#This Row],[Fecha de fin de vacaciones]],1,Hoja3!$A$3:$A$180),NETWORKDAYS.INTL(Tabla1[[#This Row],[Fecha de inicio de vacaciones2]],Tabla1[[#This Row],[Fecha Fin de vacaciones3]],1,Hoja3!$A$3:$A$180)) -> 0 | K16: =+COUNTIFS(Tabla1[Número de identificación],Tabla1[[#This Row],[Número de identificación]]) -> 0
A17: Seleccione… | F17: =+IF(Tabla1[[#This Row],[vacaciones colectivas]]="Si", "17/12/2026","") | G17: =+IF(Tabla1[[#This Row],[vacaciones colectivas]]="Si", "08/01/2027","") | J17: =IF(Tabla1[[#This Row],[vacaciones colectivas]]="SI",NETWORKDAYS.INTL(Tabla1[[#This Row],[Fecha de inicio de vacaciones]],Tabla1[[#This Row],[Fecha de fin de vacaciones]],1,Hoja3!$A$3:$A$180),NETWORKDAYS.INTL(Tabla1[[#This Row],[Fecha de inicio de vacaciones2]],Tabla1[[#This Row],[Fecha Fin de vacaciones3]],1,Hoja3!$A$3:$A$180)) -> 0 | K17: =+COUNTIFS(Tabla1[Número de identificación],Tabla1[[#This Row],[Número de identificación]]) -> 0
A18: Seleccione… | F18: =+IF(Tabla1[[#This Row],[vacaciones colectivas]]="Si", "17/12/2026","") | G18: =+IF(Tabla1[[#This Row],[vacaciones colectivas]]="Si", "08/01/2027","") | J18: =IF(Tabla1[[#This Row],[vacaciones colectivas]]="SI",NETWORKDAYS.INTL(Tabla1[[#This Row],[Fecha de inicio de vacaciones]],Tabla1[[#This Row],[Fecha de fin de vacaciones]],1,Hoja3!$A$3:$A$180),NETWORKDAYS.INTL(Tabla1[[#This Row],[Fecha de inicio de vacaciones2]],Tabla1[[#This Row],[Fecha Fin de vacaciones3]],1,Hoja3!$A$3:$A$180)) -> 0 | K18: =+COUNTIFS(Tabla1[Número de identificación],Tabla1[[#This Row],[Número de identificación]]) -> 0
A19: Seleccione… | F19: =+IF(Tabla1[[#This Row],[vacaciones colectivas]]="Si", "17/12/2026","") | G19: =+IF(Tabla1[[#This Row],[vacaciones colectivas]]="Si", "08/01/2027","") | J19: =IF(Tabla1[[#This Row],[vacaciones colectivas]]="SI",NETWORKDAYS.INTL(Tabla1[[#This Row],[Fecha de inicio de vacaciones]],Tabla1[[#This Row],[Fecha de fin de vacaciones]],1,Hoja3!$A$3:$A$180),NETWORKDAYS.INTL(Tabla1[[#This Row],[Fecha de inicio de vacaciones2]],Tabla1[[#This Row],[Fecha Fin de vacaciones3]],1,Hoja3!$A$3:$A$180)) -> 0 | K19: =+COUNTIFS(Tabla1[Número de identificación],Tabla1[[#This Row],[Número de identificación]]) -> 0
A20: Seleccione… | F20: =+IF(Tabla1[[#This Row],[vacaciones colectivas]]="Si", "17/12/2026","") | G20: =+IF(Tabla1[[#This Row],[vacaciones colectivas]]="Si", "08/01/2027","") | J20: =IF(Tabla1[[#This Row],[vacaciones colectivas]]="SI",NETWORKDAYS.INTL(Tabla1[[#This Row],[Fecha de inicio de vacaciones]],Tabla1[[#This Row],[Fecha de fin de vacaciones]],1,Hoja3!$A$3:$A$180),NETWORKDAYS.INTL(Tabla1[[#This Row],[Fecha de inicio de vacaciones2]],Tabla1[[#This Row],[Fecha Fin de vacaciones3]],1,Hoja3!$A$3:$A$180)) -> 0 | K20: =+COUNTIFS(Tabla1[Número de identificación],Tabla1[[#This Row],[Número de identificación]]) -> 0
A21: Seleccione… | F21: =+IF(Tabla1[[#This Row],[vacaciones colectivas]]="Si", "17/12/2026","") | G21: =+IF(Tabla1[[#This Row],[vacaciones colectivas]]="Si", "08/01/2027","") | J21: =IF(Tabla1[[#This Row],[vacaciones colectivas]]="SI",NETWORKDAYS.INTL(Tabla1[[#This Row],[Fecha de inicio de vacaciones]],Tabla1[[#This Row],[Fecha de fin de vacaciones]],1,Hoja3!$A$3:$A$180),NETWORKDAYS.INTL(Tabla1[[#This Row],[Fecha de inicio de vacaciones2]],Tabla1[[#This Row],[Fecha Fin de vacaciones3]],1,Hoja3!$A$3:$A$180)) -> 0 | K21: =+COUNTIFS(Tabla1[Número de identificación],Tabla1[[#This Row],[Número de identificación]]) -> 0

Sheet Lista
B1: Unidad Organizativa1 | F1: Clase de documentos | H1: Unidad | I1: Unidades_Academicas | J1: Unidades_Administrativas
B2: Asociación de Antiguos Alumnos | F2: Seleccione… | H2: Seleccione… | I2: Centro de Estudios sobre Genética y Derecho | J2: Asociación de Antiguos Alumnos
B3: Becario | F3: C.C | H3: Unidades_Academicas | I3: Centro de Idiomas y Cultura | J3: Biblioteca
B4: Biblioteca | F4: C.E | H4: Unidades_Administrativas | I4: Centro de Investigación en Filosofía y Derecho | J4: Casa Externadista
B5: Casa Externadista | F5: T.I | I5: Centro de Investigación en Política Criminal | J5: Dirección Académica
B6: Centro de Idiomas | F6: P.E | I6: Consultorio Jurídico | J6: Dirección Académica/ Publicaciones
B7: Centro de Información de la Secretaría General | I7: Departamento de Bienestar Universitario | J7: Dirección Académica / Oficina de Aseguramiento de la Calidad de la Secretaría General
B8: Centro de Investigación en Filosofía y Derecho | I8: Departamento de Derecho Administrativo | J8: Dirección Administrativa
B9: Centro de Investigación en Política Criminal | I9: Departamento de Derecho Civil | J9: Dirección Administrativa / Jefatura de Compras y Proveeduría
B10: Consultorio Jurídico | I10: Departamento de Derecho Constitucional | J10: Dirección Administrativa / Jefatura de Planta Física
B11: Departamento de Bienestar Universitario | I11: Departamento de Derecho de la Empresa y los Mercados | J11: Dirección Administrativa / Jefatura de Seguridad
B12: Departamento de Derecho Administrativo | I12: Departamento de Derecho del Medio Ambiente y Tierras | J12: Dirección Administrativa / Jefatura de Servicios de Apoyo
B13: Departamento de Derecho Civil | I13: Departamento de Derecho del Transporte y de la infraestructura del transporte | J13: Dirección de Admisiones, Registro y Control Académico
B14: Departamento de Derecho Constitucional | I14: Departamento de Derecho Fiscal | J14: Dirección de Eventos
B15: Departamento de Derecho de la Empresa y los Mercados | I15: Departamento de Derecho Laboral y de Seguridad Social | J15: Dirección de Extensión Universitaria
B16: Departamento de Derecho de la Seguridad Social y Mercado del Trabajo | I16: Departamento de Derecho Minero Energético | J16: Dirección de Internacionalización y Relaciones Externas
B17: Departamento de Derecho del Medio Ambiente y Tierras | I17: Departamento de Derecho Penal | J17: Dirección de Promoción y Mercadeo / Centro de Información y Soluciones Externadista - CISE / Contact Center – Outbound
B18: Departamento de Derecho del Transporte y de la infraestructura del transporte | I18: Departamento de Derecho Procesal | J18: Dirección de Talento Humano
... B48: Dirección de Registro Académico | I48: Secretaría Académica de la Facultad de Derecho | J48: Planeación
B49: Dirección de Talento Humano
B50: Dirección de Transformación Digital
B51: Dirección Financiera
B52: Doctorado en Derecho
B53: Facultad de Administración de Empresas
B54: Facultad de Administración de Empresas Turísticas y Hoteleras
B55: Facultad de Ciencias de la Educación
B56: Facultad de Ciencias Sociales y Humanas
B57: Facultad de Comunicación Social - Periodismo
B58: Facultad de Contaduría Pública
B59: Facultad de Derecho
B60: Facultad de Economía
... B79: Unidad de Género

Sheet Hoja1
C2: Académica | D2: Administrativa | E2: gg
C3: Centro de Estudios sobre Genética y Derecho | D3: Asociación de Antiguos Alumnos | H3: Asociación de Antiguos Alumnos
C4: Centro de Investigación en Filosofía y Derecho | D4: Biblioteca | H4: Biblioteca | L4: Departamento de Posgrados de la Facultad de Derecho - Extensión Barranquilla
C5: Centro de Investigación en Política Criminal | D5: Casa Externadista | H5: Centro de Información y Soluciones Externadista - CISE | L5: Departamento de Posgrados de la Facultad de Derecho - Extensión Bucaramanga
C6: Consultorio Jurídico | D6: Centro de Idiomas y Cultura | H6: Centro de Información y Soluciones Externadista - CISE / Contact Center – Outbound | L6: Departamento de Posgrados de la Facultad de Derecho - Extensión Cali
C7: Departamento de Derecho Administrativo | D7: Dirección de Promoción y Mercadeo / Centro de Información y Soluciones Externadista - CISE / Contact Center – Outbound | H7: Consultorio Jurídico | L7: Departamento de Posgrados de la Facultad de Derecho - Extensión Cartagena
C8: Departamento de Derecho Civil | D8: Departamento de Bienestar Universitario | H8: Departamento de Bienestar Universitario | L8: Departamento de Posgrados de la Facultad de Derecho - Extensión Cúcuta
C9: Departamento de Derecho Comercial | D9: Departamento de Publicaciones | H9: Departamento de Publicaciones | L9: Departamento de Posgrados de la Facultad de Derecho - Extensión Medellín
C10: Departamento de Derecho Constitucional | D10: Dirección Académica | H10: Dirección Administrativa | L10: Departamento de Posgrados de la Facultad de Derecho - Extensión Pasto
C11: Departamento de Derecho, Comunicaciones y Tecnologías de la Información | D11: Dirección Administrativa | H11: Dirección Administrativa / Jefatura de Compras y Proveeduría | L11: Departamento de Posgrados de la Facultad de Derecho - Extensión Pereira
C12: Departamento de Derecho de los Negocios | D12: Dirección de Admisiones, Registro y Control Académico | H12: Dirección Administrativa / Jefatura de Librería | L12: Departamento de Posgrados de la Facultad de Derecho - Extensión Tunja
C13: Departamento de Derecho del Medio Ambiente | D13: Dirección de Eventos | H13: Dirección Administrativa / Jefatura de Planta Fisica | L13: Departamento de Posgrados de la Facultad de Derecho - Extensión Villavicencio
C14: Departamento de Derecho del Transporte y de la Infraestructura del Transporte | D14: Dirección de Extensión Universitaria | H14: Dirección Administrativa / Jefatura de Seguridad
C15: Departamento de Derecho Económico | D15: Dirección de Innovación Educativa Digital | H15: Dirección Administrativa / Jefatura de Servicios de Apoyo
C16: Departamento de Derecho Financiero y Bursátil | D16: Dirección de Internacionalización y Relaciones Externas | H16: Dirección de Admisiones, Registro y Control Académico
C17: Departamento de Derecho Fiscal | D17: Dirección de Promoción y Mercadeo | H17: Dirección de Eventos
C18: Departamento de Derecho Laboral y de Seguridad Social | D18: Dirección de Talento Humano | H18: Dirección de Extensión
C19: Departamento de Derecho Minero Energético | D19: Dirección Financiera | H19: Dirección de Innovación Educativa Digital
C20: Departamento de Derecho Penal | D20: Dirección Administrativa / Jefatura de Compras y Proveeduría | H20: Dirección de Internacionalización
C21: Departamento de Derecho Procesal | D21: Dirección Administrativa / Jefatura de Planta Física | H21: Dirección de Promoción y Mercadeo
C22: Departamento de Derecho Romano | D22: Dirección Administrativa / Jefatura de Seguridad | H22: Dirección de Talento Humano
C23: Departamento de la Propiedad Intelectual | D23: Dirección Administrativa / Jefatura de Servicios de Apoyo | H23: Dirección de Talento Humano / Compensación y Registro
C24: Departamento de Matemáticas | D24: Dirección Académica / Oficina de Aseguramiento de la Calidad de la Secretaría General | H24: Dirección de Talento Humano / Contratación
C25: Departamento de Posgrados de la Facultad de Derecho | D25: Oficina de Comunicaciones y Prensa | H25: Dirección de Talento Humano / Desarrollo de Personal
... C51: Departamento de Posgrados de la Facultad de Derecho - Extensión Villavicencio | D51: Secretaría General / Gobierno de datos y gestión de la información digital | H51: Oficina de Gestión de Riesgos, Cumplimiento y Procesos – RCP

Sheet Hoja3
A2: fff | D2: opciones | E2: Si | F2: No | G2: Seleccione…
A3: 44197 | D3: Seleccione… | E3: Si
A4: 44207 | D4: Si. | E4: No
A5: 44277 | D5: No.
A6: 44283
A7: 44284
A8: 44285
A9: 44286
A10: 44287
A11: 44288
A12: 44290
A13: 44317
A14: 44333
A15: 44354
A16: 44361
A17: 44382
... A107: 45607
A108: 45634 | D108: 45999
A109: 45651
A110: 45658
A111: 45663
A112: 45740
A113: 45760 | D113: 46016
A114: 45761
A115: 45762
A116: 45763
A117: 45764
A118: 45765 | D118: 46023
A119: 45767
A120: 45778
A121: 45810
A122: 45831
A123: 45838
A124: 45838
A125: 45858 | D125: 46034
A126: 45876
A127: 45887
A128: 45943
A129: 45964
A130: 45978
A131: 45999
A132: 46016
A133: 46023
A134: 46034
A135: 46104
A136: 46110
A137: 46111
... A140: 46114
A141: 46115 | G141: =SI(O(DIAS.LAB.INTL(E5;F5;1;Hoja3!$A$3:$A$157)<6;(DIAS.LAB.INTL(E5;F5;1;Hoja3!$A$3:$A$157)>15));"";DIAS.LAB.INTL(E5;F5;1;Hoja3!$A$3:$A$157))
A142: 46117
A143: 46143 | F143: 44918 | G143: 44929 | H143: =+NETWORKDAYS.INTL(F143,G143,1,$A$3:$A$156) -> 8
A144: 46160
A145: 46181
A146: 46188
A147: 46202 | F147: 44918 | G147: 03/01/223 | H147: =+NETWORKDAYS.INTL(F147,G147,1,$A$3:$A$156) -> #VALUE!
A148: 46223
A149: 46241
A150: 46251
A151: 46307
A152: 46328
A153: 46342
A154: 46364
A155: 46381
A156: 46388
A157: 46398
A158: 46468
A159: 46471
... A175: 46762
