Workbook

Sheet Hoja1
A4: DOCTORADO EN HISTORIA ECONÓMICA
A5: ECONOMÍA POLÍTICA DE LA TRIBUTACIÓN EN COLOMBIA
A6: AUTOR: Isidro Hernández Rodríguez
A8: INFORMES DE HACIENDA DE 1824 A 1915
A10: NOTAS
A11: 1. Las cifras son idénticas a las que aparecen en los agregados estadísticos de los Informesde Hacienda de ese período y en algunos casos difiere de la cifra que el Secretario escribe en la explicación de la vigencia fiscal
A13: 2. Se verificó la suma y en algunos casos no coincide como se muestra en rojo
A15: 3. En algunos cifras se dejan algunos comentarios al cotejar el agregado con otros apartes estadísticos de los informes
A17: 4.En la hoja de gasto se hace la anotación que al cotejar la cifra corresponde a lo aprobado, no lo ejecutado
A19: 5. La unidad monetaria es el peso oro

Sheet INGRESOS 1824-1825
A1: Año económico contado desde el 1o de julio de 1824 hasta el 30 de junio de 1825
A3: Cobrado por las tesorerías
B5: Pesos | C5: Reales
A6: Alcabalas | B6: 119902 | C6: 3/4
A7: Contribución Directa | B7: 194558 | C7: 6
A8: Contribución extraordinaria | B8: 115010 | C8: 5 3/4
A9: Tributos de indígenas | B9: 172051 | C9: 2 1/4
A10: Diezmos | B10: 135573 | C10: 1 3/4
A11: Vacantes, mayores y menores | B11: 87302 | C11: 7 3/4
A12: Novenos de fábricas de iglesias | B12: 6218 | C12: 1/4
A13: Mesadas eclesiásticas | B13: 2789 | C13: 1/4
A14: Conventos suprimidos | B14: 979 | C14: 3/4
A15: Mandas forzosas | B15: 1015 | C15: 2 1/4
A16: Hospitales sin destino | B16: 1906 | C16: 5 1/2
A17: Quintos de oro y plata | B17: 32747 | C17: 7 3/4
A18: Salinas | B18: 187904 | C18: 7
A19: Papel sellado | B19: 55866 | C19: 4
A20: Aguardientes | B20: 60563 | C20: 7 1/2
A21: Arrendamientos de tierras, casas y bodegas | B21: 3282 | C21: 1 1/4
A22: Naipes | B22: 200 | C22: 5
A23: Derecho de consumo | B23: 7014 | C23: 1
A24: Comisos | B24: 4147 | C24: 6
A25: Fundición | B25: 4302 | C25: 1
A26: Alcances de cuentas | B26: 4433 | C26: 2
A27: Guarapo y gallos | B27: 1446 | C27: 6
A28: Montepío militar | B28: 71543 | C28: 7 1/4
A29: Montepío del ministerio | B29: 2166 | C29: 2 1/2
A30: Secuestros y confiscaciones | B30: 23243 | C30: 7 1/2
A31: Camellón | B31: 3838 | C31: 3 1/4
A32: Fondos del museo | B32: 9221 | C32: 2
A33: Tiendas de composición | B33: 500 | C33: 0
A34: Productos de minas | B34: 679 | C34: 0
A35: Contribuciones para la guerra | B35: 88419 | C35: 5 3/4
A36: Depósitos | B36: 256035 | C36: 1/2
A37: Temporalidades | B37: 15735 | C37: 1 1/2
A38: Donativos | B38: 6389 | C38: 7
A39: Aprovechamientos | B39: 9335 | C39: 1/4
A40: Venduta | B40: 10445 | C40: 4 1/4
A41: Bienes mostrencos | B41: 45 | C41: 0
A42: Medias anatas seculares | B42: 534 | C42: 0
...

Sheet INGRESOS 1826-1827
A1: RESUMEN DE LOS RAMOS DE INGRESO Y EGRESO DE CAUDALES QUE FORMAN EL TESORO NACIONAL DE LA REPUBLICA DE COLOMBIA
A2: INGRESO GENERAL DE CAUDALES
A4: ADUANAS
A5: RAMOS | B5: VALORES | C5: TOTALES
A6: Importación | B6: 3178197.6
A7: Exportación | B7: 582100.4
A8: Consumo | B8: 424854
A9: Toneladas | B9: 75638
A10: Pena de retardación | B10: 1126.2
A11: Almacenaje | B11: 456
A12: Patentes | B12: 1434.7
A13: Derecho de moneda en oro | B13: 722.7
A14: Derecho del anclaje | B14: 55973.6
A15: Derecho de calación | B15: 5578.4
A16: Depósitos | B16: 8152.3
A17: Diversos deudores | B17: 41658.5
... A20: Productos del año anterior cobrados en el presente | B20: 101188.3
A21: Productos aproximativos | B21: 1208146.3 | C21: 5688019.1 | D21: =SUM(B6:B21) -> 5688017.3
A23: CASAS DE MONEDA
A24: Existencia anterior | B24: 82522.1
A25: Valor de las rendiciones de oro | B25: 2473557.3
A26: Valor de las rendiciones de las de la plata | B26: 40952
A27: Febles de oro y plata | B27: 5013.2
A28: Valor de los bocadillos | B28: 5126.7
A29: Líquido | C29: 142151.4 | D29: =SUM(B24:B28) -> 2607171.3 | E29: =B24+B26+B27+B28+8537.4 -> 142151.4 | F29: =C29-E29 -> 0
A31: TABACOS
A32: Producto de tabacos de hoja | B32: 800380.7
A33: Productos del polvo | B33: 137.5 | C33: 800518.5 | D33: =B32+B33 -> 800518.2
A35: CORREOS
A36: Producto de correspondencia | B36: 66399.2
A37: Producto de encomiendas | B37: 44043.7
A38: Producto de certificados | B38: 467.7
A39: Producto del apartado | B39: 210
A40: Aproximativos | B40: 538.4 | C40: 111659 | D40: =SUM(B36:B40) -> 111659
A42: TESORERIAS
A43: Existencia del año anterior | B43: 231171.7
A44: Salinas | B44: 213261.3
A45: Quintos de oro y plata | B45: 34737.7
A46: Papel sellado | B46: 52776.5
A47: Aguardientes | B47: 28126.4
...

Sheet INGRESOS 1831-1832
A1: SECRETARIA DE ESTADO EN EL DESPACHO DE HACIENDA
A2: ESTADO GENERAL DEL INGRESO Y EGRESO QUE HAN TENIDO LAS RENTAS NACIONALES EN EL AÑO ECONOMICO
A3: CORRIDO DESDE 1º DE JULIO DE 1831 A 30 DE JUNIO DE 1832; EL CUAL SE FORMA CON ARREGLO A LOS PARTICULARES
A4: QUE SE HAN PRESENTADO POR LA CONTADURIA GENERAL
A8: INGRESO GENERAL DE TESORERIAS | B8: RAMOS PROPIOS DE LA HACIENDA | D8: RAMOS AJENOS | F8: TOTALES | K8: EGRESO GENERAL DE TESORERIAS
B9: PESOS | C9: REALES | D9: PESOS | E9: REALES | F9: PESOS | G9: REALES | H9: PESOS | I9: REALES | L9: PESOS | M9: REALES | N9: PESOS | O9: REALES
A10: Quintos de fundición de oro y plata | B10: 24618 | C10: 4 1/2 | F10: 24618 | G10: 4 1/2 | K10: Dieta de diputados y gastos del congreso | L10: 58461 | M10: 6 1/4
A11: Alcabalas | B11: 247788 | C11: 5 1/2 | F11: 247788 | G11: 5 1/2 | K11: Sueldos y gastos civiles | L11: 159367 | M11: 1/2
A12: Salinas | B12: 265837 | C12: 4 | F12: 265837 | G12: 4 | K12: Sueldos y gastos de hacienda | L12: 58252 | M12: 2
A13: Contribución de indígenas | B13: 10208 | C13: 1 1/4 | F13: 10208 | G13: 1 1/4 | K13: Idem de ejército y marina | L13: 1131662 | M13: 6 1/2
A14: Aguardientes | B14: 115968 | C14: 1 1/2 | F14: 115968 | G14: 1 1/2 | K14: Pensiones | L14: 1917 | M14: 1/2
A15: Productos de imprenta | B15: 16 | C15: 3 | F15: 16 | G15: 3 | K15: Créditos pagados | L15: 37942 | M15: 6 3/4
A16: Hospital de San Lázaro | B16: 463 | F16: 463 | G16: 3 | K16: Réditos pagados | L16: 923 | M16: 6
A17: Aprovechamientos | B17: 8417 | C17: 2 1/2 | F17: 8417 | G17: 2 1/2 | K17: Gastos generales | L17: 30919 | M17: 5
A18: Vacantes, mayores y menores | D18: 6159 | E18: 3 | F18: 6159 | G18: 3 | K18: Gastos de imprenta | L18: 7029 | M18: 2 1/4
A19: Novenos del Estado | B19: 43788 | C19: 3 1/2 | F19: 43788 | G19: 3 1/2 | K19: Gastos de papel sellado | L19: 4919 | M19: 5 1/2
A20: Hospitales sin destino | B20: 2076 | C20: 7 1/4 | F20: 2076 | G20: 7 1/4 | K20: Librado con calidad de reintegro | L20: 3648 | M20: 1/2
A21: Seminario de nobles de Madrid | D21: 2706 | F21: 2706 | K21: Suplementos a otras rentas | L21: 5793 | M21: 6
A22: Caja de indígenas de Nemocón | B22: 401 | C22: 2 | F22: 401 | G22: 2 | K22: Plata reacuñada | L22: 300
A23: Mesadas eclesiásticas | B23: 1732 | F23: 1732 | K23: Temporalidades | L23: 155
A24: Temporalidades | D24: 25 | E24: 6 1/2 | F24: 25 | G24: 6 1/2 | K24: Fábricas de iglesias | L24: 750
A25: Montepío ministerios | B25: 12 | F25: 12 | K25: Escobilla | L25: 154 | M25: 2
A26: Arrendamientos de tierras | D26: 103 | E26: 1 1/4 | F26: 103 | G26: 1 1/4 | K26: Expolios arzobispales | L26: 5404 | M26: 3 1/2
A27: Crédito público | D27: 50458 | E27: 7 | F27: 50458 | G27: 7 | K27: Expolios de curas | L27: 3159 | M27: 1 1/4
A28: Expolios | B28: 27154 | C28: 1 3/4 | F28: 27154 | G28: 1 3/4 | K28: Hacienda en común | L28: 47676 | M28: 7 3/4
A29: Multas | D29: 7795 | E29: 5 | F29: 7795 | G29: 5 | K29: Hospital de San Lázaro | L29: 1697 | M29: 5 1/4
A30: Conventos suprimidos | D30: 65 | E30: 6 | F30: 65 | G30: 6 | K30: Alcances de cuentas | L30: 180 | M30: 2 1/2
A31: Efectos de fincas del Estado | B31: 2671 | C31: 2 1/4 | F31: 2671 | G31: 2 1/4 | K31: Sínodo de misioneros | L31: 200
A32: Papel sellado | D32: 5447 | F32: 5447 | K32: Secuestros | L32: 90
A33: Alcabala de fincas raíces | D33: 2768 | E33: 2 1/2 | F33: 2768 | G33: 2 1/2 | K33: Montepío militar | L33: 110
A34: Noveno de consolidación | D34: 23568 | E34: 2 | F34: 23568 | G34: 2
A35: Derechos de hipotecas y registro | D35: 1187 | E35: 2 | F35: 1187 | G35: 2
A36: Hacienda en común | B36: 9232 | C36: 1 3/4 | F36: 9232 | G36: 1 3/4
A37: Bodegas del Estado | B37: 96 | C37: 6 | F37: 96 | G37: 6
A38: Diez por ciento de rentas municipales | D38: 1332 | E38: 2 1/2 | F38: 1332 | G38: 2 1/2
A39: Comisos | B39: 1229 | C39: 6 | F39: 1229 | G39: 6
A40: Secuestros | D40: 3449 | E40: 1 1/4 | F40: 3449 | G40: 1 1/4
A41: Derechos de carga sobre los efectos extranjeros que transitan por el Magdalena | B41: 1906 | C41: 7 | F41: 1906 | G41: 7
A42: Mandas forzosas | B42: 131 | C42: 2 | F42: 132 | G42: 2
A43: Bienes de difuntos | B43: 470 | F43: 470 | H43: 869288 | I43: 5 1/4
...

Sheet INGRESOS 1832 A 1833
A1: ESTADO GENERAL DEL INGRESO Y EGRESO QUE HAN TENIDO LAS RENTAS DE LA NUEVA GRANADA EN TODO
A2: EL AÑO ECONÓMICO CONTADO DE 1º DE DICIEMBRE DE 1832 A 30 DE NOVIEMBRE DE 1833
A5: INGRESO GENERAL | D5: EGRESO GENERAL
A6: RAMOS | B6: PESOS | C6: REALES | E6: PESOS | F6: REALES
A8: Derecho de importación | B8: 651695 | C8: 6 1/2 | D8: Sueldos y gastos civiles | E8: 375017 | F8: 6 1/4
A9: Idem de exportación | B9: 13108 | C9: 1/4 | D9: Sueldos y gastos de hacienda | E9: 260935 | F9: 2 1/4
A10: Idem de toneladas | B10: 6628 | D10: Sueldos y gastos militares | E10: 842869 | F10: 7 1/2
A11: Idem de prácticos | B11: 888 | D11: Sueldos y gastos de marina | E11: 82704 | F11: 3 3/4
A12: Idem de nacionalización | B12: 327 | C12: 2 | D12: Gastos de plaza | E12: 6982 | F12: 5 3/4
A13: Alcabala menor | B13: 328460 | C13: 6 3/4 | D13: Gastos de fortificación | E13: 4865 | F13: 1 3/4
A14: Idem de fincas raíces | B14: 27837 | C14: 5 1/2 | D14: Gastos de hospitales | E14: 35646 | F14: 6
A15: Hipotecas y registro | B15: 5578 | C15: 1/4 | D15: Gastos generales | E15: 273713 | F15: 6 1/4
A16: Producto de papel sellado | B16: 33752 | C16: 1 3/4 | D16: Pensiones | E16: 3257 | F16: 5
A17: Idem de fincas del Estado | B17: 2837 | C17: 6 1/2 | D17: Devuelto por derecho de importación | E17: 49741 | F17: 7 1/2
A18: Diez por ciento de rentas municipales | B18: 2883 | C18: 5 1/2 | D18: Idem por el de alcabala | E18: 28048 | F18: 2
A19: Producto de venduta | B19: 108 | C19: 7 1/4 | D19: Gastos de la renta de correos | E19: 51764 | F19: 6 3/4
A20: Idem de salinas | B20: 254002 | C20: 1/4 | D20: Gastos de la renta de tabacos | E20: 224759 | F20: 4
A21: Quintos de oro y plata | B21: 36367 | C21: 1 1/2
A22: Producto de aguardiente de caña | B22: 120348 | C22: 7 1/4
A23: Derecho de tránsito | B23: 3646 | C23: 1/4
A24: Idem de internación | B24: 2682 | C24: 1 1/4
A25: Idem de titulos | B25: 1982
A26: Utilidades de amonedación | B26: 110172 | C26: 5 1/2
A27: Producto de correos | B27: 93329 | C27: 2
A28: Producto de tabacos | B28: 547985 | C28: 3 1/4
A29: Vacantes mayores y menores | B29: 6467
A30: Medias anatas, mesadas y anualidades | B30: 20958 | C30: 1/4
A31: Producto de diezmos | B31: 75260 | C31: 2 3/4
A32: Espolios arzobispales | B32: 27396 | C32: 3 3/4
A33: Multas | B33: 542 | C33: 6
A34: Donativos | B34: 1130 | C34: 2 1/4
A35: Aprovechamientos | B35: 7990 | C35: 3
A36: Producto de bodegas | B36: 477 | C36: 2 3/4
A37: Hacienda en común | B37: 100170 | C37: 6
A39: Suma total | B39: 2485015 | C39: 2 3/4 | E39: 2240308 | F39: 3/4
B40: =SUM(B8:B37) -> 2485004 | C40: =94/8 -> 11.75 | E40: =SUM(E8:E20) -> 2240300 | F40: =68/8 -> 8.5
B41: =B40+C40 -> 2485015.8 | E41: =E40+F40 -> 2240308.5
A43: Fuente Con base en Soto (1834)
A45: Existencia de dinero en las tesorería el 30 de noviembre de 1832 | D45: 25185 | E45: 7 1/4
A46: Fuente Con base en Soto (1834)

Sheet INGRESOS 1833 - 1834
A1: "Como la ley de 28 de mayo de 1834 dispuso que el año económico se contase de 1º de septiembre a 31 de agosto, y que las cuentas entonces corrientes habían de cerrarse el 31 de agosto de dicho año
A2: debo contraer a los nueve meses corridos desde 1º de diciembre de 1833 a la última fecha expresada; la manifestación de los ingresos y egresos del tesoro nacional; agreagando sin embargo el presupuesto
A3: de 12 meses contaderos desde 1º de septiembre del presente año al último de agosto de 1836 para los gastos que demanda el servicio nacional"
A4: Para nueve meses contados desde diciembre de 1833 hasta agosto de 1834
B5: PESOS | C5: REALES
A6: Ingresos propios del ramo | B6: 1740904
A7: Egresos | B7: 1749775 | C7: 6
A8: Diferencia | B8: 8871 | C8: 6
A10: Fuente: con base en Soto (1835)
B12: =B6-B7 -> -8871

Sheet INGRESOS 1810 -1836
A1: CUADRO COMPARATIVO DE LOS RENDIMIENTOS QUE TUVIERON LOS IMPUESTOS ESTABLECIDOS EN LA NUEVA GRANADA EN 1801, EN LOS
A2: QUE INMEDIATAMENTE PRECEDIERON AL DE 1810, TIEMPO DEL GOBIERNO ESPAÑOL, Y DE LAS CONTRIBUCIONES EN 1832, 33, 34 Y 35,
A3: TIEMPO DE LA REPÚBLICA DE LA NUEVA GRANADA
A8: IMPUESTOS Y CONTRIBUCIONES | D8: AÑO COMÚN TOMADO | F8: AÑO ECONÓMICO DE 1º DE JULIO DE 1831 | I8: AÑO ECONÓMICO DE 1º DE | L8: AÑO ECONÓMICO DE 1º DE | O8: AÑO ECONÓMICO DE 1º DE | R8: AÑO ECONÓMICO DE 1º DE
D9: ENTRE LOS QUE | F9: A 30 DE JUNIO DE 1832 | I9: DICIEMBRE DE 32 A 30 DE | L9: DICIEMBRE DE 33 A 31 DE AGOSTO | O9: SEPTIEMBRE DE 1834 A | R9: SEPTIEMBRE DE 1835 A
B10: 1801 | D10: INMEDIATAMENTE PRECEDIERON | I10: NOVIEMBRE DE 1833 | L10: DE 1834, SEGÚN LA CUENTA PASADA | O10: 31 DE AGOSTO DE 1835 | R10: 31 DE AGOSTO DE 1836
D11: AL DE 1810 | L11: AL CONGRESO, Y DE 1º DE SEPTIEMBRE
L12: A 30 DE NOVIEMBRE DEL MISMO,
L13: CALCULADO SOBRE EL PRODUCTO DE
L14: LOS NUEVE MESES ANTERIORES
C15: PESOS | E15: PESOS | G15: PESOS | H15: REALES | J15: PESOS | K15: REALES | M15: PESOS | N15: REALES | P15: PESOS | Q15: REALES | S15: PESOS | T15: REALES
A16: Alcabalas | C16: 97762 | E16: 184880 | G16: 247788 | H16: 5 1/2 | J16: 328460 | K16: 6 3/4 | M16: 268346 | N16: 7 | P16: 173955 | Q16: 7 1/2 | R16: Suprimido
A17: Tributos | C17: 14424 | E17: 47000 | F17: Suprimido | I17: Suprimido | L17: Suprimido | O17: Suprimido | R17: id.
A18: Protectoría | C18: 904 | F18: id. | I18: id. | L18: id. | O18: id. | R18: id.
A19: Novenos reales | C19: 26574 | G19: 43788 | H19: 3 1/2
A20: Inválidos | C20: 3223 | F20: Suprimido | I20: id. | L20: id. | O20: id. | R20: id.
A21: Quintos reales | C21: 3360
A22: Fundición | C22: 638 | E22: 78000 | G22: 24618 | H22: 4 1/2 | J22: 36367 | K22: 1 1/2 | M22: 42662 | N22: 1 1/4 | P22: 64194 | Q22: 1 1/4 | S22: 61814 | T22: 7
A23: Medias anatas de empleos | C23: 4394 | E23: 15000 | F23: Suprimido | I23: Suprimido | L23: Suprimido | O23: Suprimido | R23: Suprimido
A24: Tierras | C24: 7974 | E24: 4000 | F24: id. | I24: id. | L24: id. | O24: id. | R24: id.
A25: Salinas | C25: 42725 | E25: 65000 | G25: 265837 | H25: 4 | J25: 254002 | K25: " 1/4 | M25: 247119 | N25: 6 | P25: 253748 | Q25: 7 | S25: 225416 | T25: 2 1/2
A26: Papel sellado | C26: 6235 | E26: 53000 | G26: 5447 | J26: 33752 | K26: 1 3/4 | M26: 40659 | N26: 1 1/4 | P26: 36060 | Q26: 7 1/2 | S26: 46529 | T26: 4 1/4
A27: Aguardiente | B27: Por estanco | C27: 75341 | D27: Por estanco | E27: 295048 | F27: Por estanco y patentes | G27: 115068 | H27: 1 1/2 | I27: Por estanco y patentes | J27: 120348 | K27: 7 1/4 | L27: Por estanco y patentes | M27: 13557 | N27: 6 1/4 | O27: Por estanco y patentes | P27: 95026 | Q27: 1 1/2 | R27: Por estanco y patentes | S27: 99980 | T27: 1
A28: Pólvora | C28: 1381 | E28: 11500 | F28: Suprimido | I28: Suprimido | L28: Suprimido | O28: Suprimido | R28: Suprimido
A29: Comisos | C29: 1019 | E29: 25000 | G29: 1229 | H29: 6
A30: Multas | C30: 116 | G30: 7795 | J30: 542 | K30: 6 | M30: 5 | N30: " 1/4 | P30: 16 | Q30: 6 1/4
A31: Arriendo de gallos | C31: 370 | E31: 700 | F31: Suprimido | I31: Suprimido | L31: Suprimido | O31: Suprimido | R31: Suprimido
A32: Aprovechamientos de amonedación | C32: 3194
A33: Recaudo por las tesorerías de provincia | C33: 688503
A34: Imposiciones a censo | C34: 24155 | F34: id. | I34: id. | L34: id. | O34: id. | R34: id.
A35: Oficios vendibles | C35: 2196 | E35: 10000 | F35: id. | I35: id. | L35: id. | O35: id. | R35: id.
A36: Real subsidio | C36: 245 | F36: id. | I36: id. | L36: id. | O36: id. | R36: id.
A37: Minas de plata, en administración de cuenta del gobierno | C37: 15072 | F37: id. | I37: id. | L37: id. | O37: id. | R37: id.
A38: Vacantes mayores | C38: 2458 | G38: 6159 | H38: 3 | J38: 6467 | M38: 10860 | N38: 2 1/2 | P38: 35386 | Q38: 2 1/4 | S38: 25504 | T38: 2 1/4
A39: Id. menores | C39: 19561
A40: Medias anatas ecleciásticas | C40: 6179 | E40: 22000 | G40: 1732
A41: Mesadas ecleciásticas | C41: 6452
A42: Bulas de cruzada | C42: 5863 | E42: 30000 | F42: Suprimido | I42: Suprimido | L42: Suprimido | O42: Suprimido | R42: Suprimido
A43: Id de carne | C43: 777 | F43: id. | I43: id. | L43: id. | O43: id. | R43: id.
A44: Tabaco | C44: 64039 | E44: 470000 | G44: 488770 | H44: 7 | J44: 547985 | K44: 3 1/4 | M44: 579507 | N44: 7 | P44: 615493 | Q44: " 1/4 | S44: 731015 | T44: 4 1/2
...

Sheet INGRESOS 1836-1837
A1: CUENTA GENERAL DEL TESORO EN EL ULTIMO AÑO ECONÓMICO, Y PRESUPUESTO DE GASTOS PAR EL AÑO DE 1838-1839
B2: PESOS | C2: REALES | D2: PESOS | E2: REALES | F2: PESOS | G2: REALES
A3: EXISTENCIA DE LA CUENTA ANTERIOR
A4: En tabaco en especie | F4: 374561 | G4: 4
A5: En pagares de aduanas | F5: 274224 | G5: 2 3/4
A6: En idem en la tesorería del Chocó | F6: 31101 | G6: 5
A7: En cartas sobrantes | F7: 2802 | G7: 2 1/2
A8: En dinero efectivo | F8: 334969 | G8: 4
A9: En pagarés de tabaco | F9: 24526
F10: 1042185 | G10: 2 1/2 | I10: =SUM(F4:F9) -> 1042183 | J10: =(17+J11)/8 -> 2.3125
I11: =+I10+J10 -> 1042185.3 | J11: 1.5
A12: IMPORTE DE LAS CONTRIBUCIONES
A13: Aduana por ramos nacionales | F13: 1006291 | G13: 3 "
A14: Dedúcese lo devuelto por cobrado de más por importación | D14: 11438 | E14: 1/2
A15: Por alcabala | D15: 15986 | E15: 3/4
A16: Por toneladas | D16: 73 | E16: 4 3/4
A17: Dedúcese igualmente el importe de los pagarés existentes en las cuentas del año anterior
A18: por estar cargado en la primera partida de existenias, cuyo valo es el de | D18: 305325 | E18: 7 3/4 | F18: 332823 | G18: 5 3/4 | I18: =SUM(D14:D18) -> 332822 | J18: 3/4
I19: =I18+J19 -> 332823.62 | J19: =13/8 -> 1.625
A20: Líquido | F20: 673467 | G20: 5 1/4 | I20: =F13-F18 -> 673468
A22: Correos | F22: 79956 | G22: 3
A23: Tesorerías | F23: 657939 | G23: 1/2
A24: Casas de moneda | F24: 114762 | G24: 6
A25: Tabaco | F25: 666446 | G25: 6 1/6
A26: Importe total, según documento número 1 | F26: 2192572 | G26: 5 | I26: =SUM(F22:F25)+F20 -> 2192570 | J26: =(5+3+6+6+5) -> 25
I27: =I26+J27 -> 2192573.1 | J27: =J26/8 -> 3.125
A28: EGRESO, SEGÚN EL DOCUMENTO NÚMERO 2
A29: Tesorerías | D29: 1810339 | E29: 3 1/4
A30: Correos | D30: 43722 | E30: 1 3/4
A31: Tabacos | D31: 444224 | E31: 5 1/2 | F31: 2298346 | G31: 3 | I31: =SUM(D29:D31) -> 2298285 | J31: 10.5
A32: Diferencia entre el producto de las contribuciones y los egresos | F32: 105773 | G32: 6 | I32: =I31+J32 -> 2298286.3 | J32: =J31/8 -> 1.3125
A33: Total existencia en 31 de agosto de 1837 | F33: 936411 | G33: 4 1/2 | I33: =F26-F31 -> -105774 | J33: =G26-G32 -> -1
A34: En tabaco en especie | D34: 363727 | E34: 7 3/4 | I34: =I33-J34 -> -105773.88 | J34: =J33/8 -> -0.125
A35: En pagarés de tabaco | D35: 30520 | I35: =F10-F32 -> 936412 | J35: =2-G32 -> -4
A36: En idem de aduanas | D36: 259384 | E36: 2 3/4 | I36: =+I35+J36 -> 936411.5 | J36: =J35/8 -> -0.5
A37: En cartas sobrantes | D37: 3017 | E37: 1 3/4
A38: En pagarés de tesorería | D38: 4105 | E38: 5 1/4
A39: En documentos de la tesorería de Panamá no datados | D39: 7602 | E39: 6 3/4
A40: En dinero | D40: 668358 | E40: 1/4 | I40: =SUM(D34:D39) -> 668355 | J40: =3.5+21 -> 24.5
I41: =I40+J41 -> 668358.06 | J41: =J40/8 -> 3.0625
...

Sheet GASTO DE HACIENDA 1824-1825
A1: GASTOS EJECUTADOS EN EL DEPARTAMENTO DE HACIENDA DESDE EL 1 DE JULIO DE 1824 HASTA EL 30 DE JUNIO DE1825
B2: PESOS | C2: REALES
A3: Secretaría de Hacienda en sueldos y gastos | B3: 12960
A4: La comisión de repartimiento de bienes nacionales | B4: 1720
A5: Liquidación de la deuda nacional, doméstica y extranjera | B5: 2042 | C5: 6
A6: Dirección general de todas sus secciones | B6: 21656 | C6: 6
A7: Las tesorerías | B7: 138993 | C7: 5
A8: Las aduanas | B8: 107923 | C8: 0 3/4
A9: Las administraciones de tabacos en principales sueldos y gastos | B9: 500632 | C9: 6 3/4
A10: La administración de correos en salarios de conductores, sueldos y gastos | B10: 72213 | C10: 7
A11: Total | B11: 858142 | C11: 7 1/2
A12: Nota. No se ponen los gastos de las casas de moneda por no haberse recibido más que la razón de sus productos netos
A13: Fuente: José María del Castillo, Informe del Secretario de Hacienda, 1826

Sheet PRESUPUESTO GASTOS 1826
A1: PRESUPUESTO PARA 1826
B2: PESOS | C2: REALES | D2: MARAVEDÍ
A3: Presupuesto del Departamento de Relaciones Exteriores
A4: SECRETARIA DE RELACIONES EXTERIORES | B4: 14180 | C4: 0
A5: LEGACION EN LOS ESTADOS UNIDOS | B5: 17066 | C5: 5 1/4
A6: LEGACION EN MEJICO | B6: 14133 | C6: 2 1/2
A7: LEGACION EN GUATEMALA | B7: 11583 | C7: 2 1/2
A8: LEGACION EN EL PERU | B8: 12633 | C8: 2 1/2
A9: LEGACION EN CHILE | B9: 5833 | C9: 2 1/2
A10: LEGACION EN BUENOS AIRES | B10: 5833 | C10: 2 1/2
A11: ASAMBLEA DEL ITMO | B11: 20000 | C11: 0
A12: LeGACION QUE HAY QUE ENVIAR A BRASIL | B12: 18666 | C12: 5 1/4
A13: LEGACION EN LONDRES | B13: 30733 | C13: 2 1/4
A14: LAGACION QUE HAY QUE ENVIARSE A FRANCIA | B14: 17733 | C14: 2 1/4
A15: LEGACION EN ROMA | B15: 13166 | C15: 5 1/4
A16: LEGACION QUE HAY QUE ENVIARSE A HOLANDA | B16: 21433 | C16: 2 1/4
A17: LEGACION QUE HAY QUE ENVIARSE A DINAMARCA | B17: 18633 | C17: 2 1/4
A18: LEGACION QUE HAY QUE ENVIARSE AL BALTICO | B18: 24133 | C18: 2 1/4
A19: Para legaciones que pueden hacerse necesarias y otros gastos eventuales | B19: 50000 | C19: 0 | E19: =B23/B20 -> 1.3524388e-05
A20: TOTAL | B20: 295762 | C20: 7 1/4 | E20: =B23/B22 -> 1.3524571e-05
B22: =SUM(B4:B19) -> 295758
B23: =B20-B22 -> 4
A24: FUENTE: EXPOSICION DEL SECRETARIO DE HACIENDA PRESENTADA AL CONGRESO DE 1826
A25: JOSE MARIA DEL CASTILLO
A27: Presupuesto del Departamento del Interior
A29: Viáticos a los Representantes por la leguas que tienen que recorrer | B29: =SUM(B30:B58) -> 79302
A30: Tunja | B30: 630
A31: Pamplona | B31: 1200
A32: Socorro | B32: 1200
A33: Casanare | B33: 240
A34: Mérida | B34: 1320
A35: Trujillo | B35: 820
A36: Maracaibo | B36: 1680
A37: Coro | B37: 1060
A38: Barinas | B38: 2460
A39: Caracas | B39: 15600
A40: Barcelona | B40: 3240
A41: Cumaná | B41: 3400
... A73: Corte Superior de Justicia de Guayaquil | B73: 17800
A74: Intendencias departamentales
...

Sheet GASTO EN 1827
A1: EXTRACTO DEL PRESUPUESTO DE GASTO DEL DEPARTAMENTO DEL INTERIOR DE LA REPUBLICA DE COLOMBIA EN EL AÑO DE 1827
A3: Cámara de Representantes | B3: 123746
A4: Senado | B4: 75144
A5: Poder ejecutivo | B5: 48000
A6: Secretaria del interior | B6: 10660
A7: Gastos de esta secretaría e imprsiones de leyes y decretos | B7: 2000
A8: Gaceta de Colombia y otros gastos de papeles públicos | B8: 4000
A9: Alta corte de justicia | B9: 24000
A10: Cinco cortes superiores | B10: 71600
A11: Doce intendencias, sus secretarías y doce jueces letrados de hacienda | B11: 87100
A12: 22 gobiernos provinciales, igual número de oficiales de secretaría,
A13: sus gastos y 22 jueces letrados de hacienda | B13: 70300
A14: Establecimientos de educación en varios puntos de la República | B14: 6067
A15: Museo y cátedras de ciencias naturales | B15: 4900
A17: Total | B17: 527686 | C17: =SUM(B3:B15) -> 527517
A18: Fuente: Con base en José María Restrepo (1827) Informe del Departamento del Interior
A20: SON CIFRAS DEL PRESUPUESTO A APROBAR
A21: RESUMEN GENERAL DE GASTOS EN EL AÑO DE 1827 EN CADA UNO DE LOS DEPARTAMENTOS DE LA ADMINISTRACIÓN DE LA REPÚBLICA
B23: PESOS | C23: REALES | D23: PESOS | E23: REALES
A24: Departamento de relaciones exteriores | D24: 69369 | E24: 7
A25: Departamento del interior | D25: 526886 | E25: 4
A26: Departamento de la guerra | D26: 4307797 | E26: 4
A27: Departamento de marina (1) | D27: 912721 | G27: =4300+44880+123006+151956+46830+75573+57784+6226+5566+26937+10626+4600+7440+34917+8550+113420+178889+11220 -> 912720
A28: Departamento de hacienda | B28: 579047 | D28: 2679047
A29: El interés de la deuda exterior asciende a | B29: 1800000
A30: El uno por ciento para el fondo de amortización de esta deuda | B30: 300000
A32: Total | D32: 8495822
B33: =SUM(B28:B30) -> 2679047 | D33: =SUM(D24:D30) -> 8495820 | E33: =SUM(E24:E30) -> 15
A34: 1 En el caso de que hayan de equiparse y armarse todos los buques de guerra de la República, entonces el presupuesto del departamento de marina subirá a 2026422 pesos 6 reales.
A35: Fuente: Con base en el Informe del Secretario de Hacienda José María del Castillo (1827)

Sheet 1834
B1: pesos | C1: reales
A2: ingresos del tesoro de 1832 | B2: 2282386 | C2: 5
A3: ingresos del tesoro de 1833 | B3: 2485015 | C3: 2 1/4
A4: Gastos del tesoro de 1833 | B4: 2240308 | C4: 3/4
A5: Déficit o superávit | B5: 244707 | C5: 2
A7: Informe del Secretario de Estado en el Despacho de Hacienda, Francisco Soto
A10: Estado General del Ingreso y Egreso que han tenido las rentas
A11: de la Nueva Granada en todo el año económico contado de 1o de diciembre de 1832 a 30 de noviembre de 1833
A13: Derecho de importación
A14: Idem de exportación
A15: Idem de toneladas

Sheet Gastos de 1833
A1: Resumen del presupuesto de gastos de cada uno de los departamentos de la administración del Estado
A2: 1833
B3: pesos | C3: reales
A4: Departamento del interior y relaciones exteriores | B4: 354441 | C4: 6 3/4
A5: Departamento de guerra y marina | B5: 1255288 | C5: 3
A6: Departamento de hacienda | B6: 907971 | C6: 2
A8: total | B8: 2517701 | C8: 3 3/4
A10: Fuente: Con base en Franciso Soto (1833) informe de hacienda
A12: Es el proyecto de presupuesto

Sheet GATOS 1834-1835
A1: PRESUPUESTOS DE GASTOS PARA 1834-1835
D2: TOTAL
B3: PESOS | C3: REALES | D3: PESOS | E3: REALES
A4: Secretaría del Interior y Relaciones Exteriores | B4: 406799 | C4: 4
A5: Secretaría de Guerra y Marina | B5: =1025876+217177 -> 1243053 | C5: 8
A6: Secretaría de Hacienda | B6: 879357 | C6: 7 3/4 | D6: 2529211 | E6: 3 3/4 | F6: 2529211
B8: =SUM(B4:B6) -> 2529209
A10: Fuente Con base en Soto (1834)

Sheet GASTO 1835-1836
A1: DEL PRESUPUESTO DE GASTOS PARA EL AÑO CONTADO DESDE 1º DE SEPTIEMBRE DE 1835 A ULTIMO DE AGOSTO DE 1836
B4: PESOS | C4: REALES
A5: Secretaría del interior | B5: 418287 | C5: 4
A6: Secretaría de guerra y marina | B6: 1315325 | C6: 3 1/2
A7: Secretaría de hacienda | B7: 980543 | C7: 1 1/2
A9: Total | B9: 2714156 | C9: 1
B10: =B5+B6+B7 -> 2714155 | C10: =9/8 -> 1.125
B11: =B10+C10 -> 2714156.1
A12: Fuente: con base en Soto (1835)

Sheet GASTO 1836-1837
A1: PRESUPUESTO GENERAL DE SUELDOS Y GASTOS DEL DEPARTAMENTO DEL INTERIOR Y RELACIONES EXTERIORES
A2: EN EL AÑO ECONÓMICO DE HACIENDA COMPRENSIVO DESDE 1º DE SEPTIEMBRE DE 1836 HASTA 31 DE AGOSTO DE 1837
A3: CON ARREGLO A LAS DISPOSICIONE VIGENTES
B4: PESOS | C4: REALES
A5: Congreso | B5: 96014
A6: Poder ejecutivo | B6: 54432
A7: Gastos diplomáticos y consulares | B7: 19032 | C7: 4 3/4
A8: Poder judicial, fuera de una partida indeterminada | B8: 97480
A9: Instrucción pública | B9: 16798 | C9: 6
A10: Misiones | B10: 8258
A11: Gobernaciones de las provincias | B11: 79370
A12: Cámaras de provincia | B12: 11551
A13: Jefaturas políticas | B13: 3400
A14: Periódicos provinciales | B14: 3000
A15: Gatos varios y extraordinarios | B15: 57590
A17: Suma total | B17: 446926 | C17: 2 3/4
B18: =SUM(B5:B15) -> 446925 | C18: =10/8 -> 1.25
B19: =B18+C18 -> 446926.25
A20: Fuente: Con base en De Pombo (1836) Informe al Congreso
A27: PRESUPUESTO DEL 1º DE SEPTIEMBRE DE 1836 A AGOSTO DE 1837
B29: PESOS | C29: REALES
A30: Secretaría del Interior y relaciones exteriores | B30: 446926 | C30: 2 3/4
A31: el de la de guera | B31: 1052677 | C31: 2
A32: El de la marina | B32: 346926
A33: El de la de hacienda | B33: 1057563 | C33: 3
A35: Suma total | B35: 2904092 | C35: 7 3/4
B36: =SUM(B30:B33) -> 2904092
A38: Fuente: Con base en Soto (1836) Informe al Congreso

Sheet I-G PROVINCIAS 1836-1837
A1: CUADRO GENERAL DE LOS PRODUCTOS DE LAS RENTAS PROVINCIALES EN UN AÑO CONTADO
A2: DESDE 1º DE SEPTIEMBRE DE 1836 HASTA 31 DE AGOSTO DE 1837
B4: RENTAS APLICABLES A LOS GASTOS COMUNES | G4: RENTAS DE APLICACIÓN ESPECIAL
A5: PROVINCIAS | H5: PARA LA ENSEÑANZA PÚBLICA | N5: PARA LAS VÍAS DE COMUNICACIÓN
B6: PRODUCTOS | D6: CRÉDITOS | F6: DEUDAS | H6: PRODUCTOS | J6: CRÉDITOS | L6: DEUDAS | N6: PRODUCTOS | P6: CRÉDITOS | R6: DEUDAS
B7: REALES | C7: CUARTILLOS | D7: REALES | E7: CUARTILLOS | F7: REALES | G7: CUARTILLOS | H7: REALES | I7: CUARTILLOS | J7: REALES | K7: CUARTILLOS | L7: REALES | M7: CUARTILLOS | N7: REALES | O7: CUARTILLOS | P7: REALES | Q7: CUARTILLOS | R7: REALES | S7: CUARTILLOS
A9: Antioquia | B9: 9055 | C9: 3 | H9: 2088 | I9: 3 | N9: 4138 | O9: 1 | P9: 21600
A10: Bogotá | B10: 27658 | D10: 58297 | E10: 1 | F10: 10151 | G10: 3 | H10: 378 | N10: 57154 | P10: 34934 | Q10: 2 | R10: 1000 | S10: 2
A11: Buenaventura | B11: 5745 | D11: 1563 | E11: 3 | F11: 2320 | H11: 17675 | I11: 1 | N11: 32582 | O11: 1 | P11: 4363 | Q11: 1
A12: Cartagena | B12: 10946 | C12: 2 | D12: 56227 | E12: 2 | F12: 17822 | G12: 1 | H12: 831 | N12: 89884 | P12: 25814 | Q12: 2 | R12: 16654 | S12: 6
A13: Casanare | P13: 2180
A14: Cauca | B14: 2990 | C14: 3 | D14: 1600 | H14: 719 | P14: 6892
A15: Chocó | B15: 4284 | C15: 2 | D15: 6068 | E15: 2 | N15: 25448 | P15: 2807
A16: Mariquita | B16: 1463 | C16: 1 | D16: 2135 | E16: 2 | F16: 1559 | H16: 152 | I16: 3 | J16: 200 | N16: 146 | O16: 2 | P16: 10807 | Q16: 2 | R16: 148
A17: Mompós | B17: 6692 | D17: 1937 | N17: 6188 | O17: 3 | P17: 6500
A18: Neiva | B18: 457 | D18: 13187 | E18: 2 | F18: 436 | H18: 489 | I18: 2 | P18: 10582
A19: Pamplona | B19: 7720 | C19: 3 | D19: 5043 | E19: 2 | F19: 1382 | P19: 18610
A20: Panamá | P20: 9932 | Q20: 3
A21: Pasto | B21: 6953 | C21: 1 | D21: 8707 | E21: 2 | H21: 400 | P21: 8008 | Q21: 3
A22: Popayán | B22: 554 | C22: 2 | D22: 144 | H22: 240 | P22: 6593 | Q22: 3
A23: Riohacha | B23: 22254 | C23: 1 | H23: 1600 | P23: 2023 | Q23: 1
A24: Santa Marta | B24: 8928 | D24: 52444 | E24: 2 | F24: 10315 | G24: 2 | H24: 557 | N24: 93708 | O24: 3 | P24: 16963 | Q24: 3
A25: Socorro | B25: 7912 | C25: 1 | H25: 3472 | P25: 13653 | Q25: 1
A26: Tunja | B26: 8607 | D26: 848 | P26: 32393 | Q26: 3
A27: Vélez | B27: 6161 | C27: 1 | D27: 1035 | H27: 1725 | P27: 11402 | Q27: 2
A28: Veragua | B28: 1559 | C28: 1 | D28: 6878 | F28: 1800 | H28: 108 | P28: 5811 | Q28: 2
A29: Totates | B29: 139943 | C29: 1 | D29: 216117 | E29: 2 | F29: 45786 | G29: 2 | H29: 30937 | J29: 200 | N29: 308641 | O29: 2 | P29: 249065 | R29: 17861 | S29: 8
B30: =SUM(B9:B28) -> 139938 | C30: =SUM(C9:C28) -> 21 | D30: =SUM(D9:D28) -> 216113 | E30: =SUM(E9:E28) -> 18 | F30: =SUM(F9:F28) -> 45785 | G30: =SUM(G9:G28) -> 6 | H30: =SUM(H9:H28) -> 30434 | I30: =SUM(I9:I28) -> 9 | ... S30: =SUM(S9:S28) -> 8
B31: =B30+C31 -> 139943.25 | C31: =C30/4 -> 5.25 | D31: =D30+E31 -> 216117.5 | E31: =E30/4 -> 4.5 | F31: =F30+G31 -> 45786.5 | G31: =G30/4 -> 1.5 | H31: =H30+I31 -> 30436.25 | I31: =I30/4 -> 2.25 | J31: =J30+K31 -> 200 | K31: =K30/4 -> 0 | N31: =N30+O31 -> 309250.5 | O31: =O30/4 -> 2.5 | P31: =P30+Q31 -> 251874 | Q31: =Q30/4 -> 7 | R31: =R30+S31 -> 17804 | S31: =S30/4 -> 2
A33: NOTAS
A34: 1. No se han recibido las noticias oportunamente pedidas a las gobernaciones de Casanare y Panamá
A35: 2. En la columna de créditos a favor de las rentas aplicadas para las vías de comunicación se han incluido lo que cada provincia (ilegilbe) en 31 de agosto
A36: por las porciones de derecho nacional de caminos, estas porciones, ascendentes a 230.420 reales, o $28.803 (ilegible) integramente satisfechas
A38: Bogotá, marzo 3 de 1838
A40: Fuente: Con base en De Pombo (1838)
A45: CUADRO GENERAL DE LOS GASTOS HECHOS CON LAS RENTAS PRIVINCIALES COMUNES Y DE
A46: APLICACIÓN ESPECIAL, DURANTE EL AÑO CONTADO DESDE 1º DE SEPTIEMBRE DE 1836 HASTA 31 DE AGOSTO DE 1837
B48: FONDOS COMUNES | D48: FONDO DE APLICACIÓN ESPECIAL
D49: PARA LA ENSEÑANZA PÚBLICA | F49: PARA LAS VIAS DE COMUNICACIÓN | H49: GASTOS DE RECAUDACIÓN
B50: EGRESOS | D50: EGRESOS | F50: EGRESOS | H50: EGRESOS
...

Sheet GASTO 1838-1839
A1: PRESUPUESTO GENERAL DE SUELDOS Y GASTOS PARA EL AÑO ECONÓMICO DE HACIENDA COMPRENDIDO
A2: DESDE 1º DE SEPTIEMBRE DE 1838 HASTA 31 DE AGOSTO DE 1839
A4: Secretaría del interior
A5: Congreso | B5: 105932
A6: Poder ejecutivo | B6: 51338 | C6: 5 1/4
A7: Gastos diplomáticos y consulares | B7: 23787 | C7: 5
A8: Poder judicial | B8: 95860
A9: Gobernaciones de las provincias | B9: 79938
A10: Cámaras de provincia | B10: 16374 | C10: 7
A11: Jefaturas políticas | B11: 5772
A12: Instrucción pública | B12: 16712 | C12: 6
A13: Miasiones | B13: 10099
A14: Gastos varios y extraordinarios | B14: 81790
A16: Total suma | B16: 487604 | C16: 7 1/4
A18: Secretaría de guerra y marina
A19: Guerra
A20: Sueldos y gastos de la secretaría de guerra y marina | B20: 14392
A21: Sueldos y gastos del esgtado mayor general | B21: 14568
A22: Sueldos de los generales y coroneles en servicio | B22: 31536
A23: Sueldos y gastos de las jefaturas militares y comandancias en jefes de columnas | B23: 23734
A24: Sueldos y gastos de las comandancias de fortalezas y castillos | B24: 6016
A25: Sueldos y gastos del ramo de ingenieros | B25: 4094 | C25: 4
A26: Sueldos y gastos de los parques y maestranzas | B26: 6723
A27: Sueldos y gastos de la fuerza permanente | B27: 583879 | C27: 6
A28: Sueldos y gastos de la guardia nacional | B28: 82524
A29: Pensiones de los generales, jefes y oficiales | B29: 164292
A30: Pensiones de los individuos de tropa inválidos | B30: 25394
A31: Pensiones de las viudas de algunos militares | B31: 4624
A32: Sueldos y gastos de los hospitales militares | B32: 60215
A33: Sueldos y gastos de las escuelas militares | B33: 5020
A34: Pago de deudas | B34: 3985 | C34: 3 1/4
A35: Gastos varios | B35: 81200
D36: =SUM(B20:B35) -> 1112196
A37: Suma | B37: 1064197 | C37: 5 1/4 | D37: =D36+E37 -> 1112196 | E37: =E36/8 -> 0
A39: Marina
A40: Comandancia de marina de Cartagena | B40: 4000
A41: Arcenal de idem. | B41: 19882 | C41: 4
A42: Escuela militar de marina | B42: 2350
A43: Capitanías de puerto | B43: 32895 | C43: 2 3/16
A44: Compañía de infantería de marina | B44: 20898
...

Sheet 1841 Hacienda
A1: Año económico del 1º de septiembre de 1839 a 31 de agosto de 1840
B3: Pesos | C3: reales | E3: Pesos | F3: reales
A4: CARGO
A5: Existencia de la cuenta anterior
A6: En tabacos en especie á principios | B6: 313567 | C6: 6 | D6: 3/4
A7: De lo que quedó adeudado de las contribuciones i rentas nacionales | B7: 266465 | C7: 4 | D7: 1/4
A8: En dinero | B8: 378068 | C8: 4 | D8: 1/4
E9: 958102 | F9: 7 | G9: 1/4 | H9: =SUM(B6:B8) -> 958100 | I9: =SUM(C6:C8) -> 14 | J9: 1
H10: =H9+(I9+J9)/8 -> 958101.88
A11: Ingreso al Tesoro en efectivo por contribuciones y rentas nacionales | E11: 2201243 | F11: 5 | G11: 3/4
A13: Lo que ha quedado adeudado por producto de los mismos , en el año de la | E13: 410298 | F13: 7 | G13: 1/4
A15: SUMA | E15: 3569645
E16: =E9+E11+E13 -> 3569643
A19: DATA
A21: Gastos jenerales del Tesoro | B21: 2327041 | C21: 5 | D21: "
A23: Diferencia entre el tabaco vendido de la existencia en especie del año
A24: anterior, i la existencia | B24: 18306 | C24: 6 | D24: "
A26: Lo que quedó adeudado por producto de las contribuciones i rentas nacional
A27: en el año anterior, parte cobrado y cargado en la partida de ingreso, i parte
A28: que pasa á deudas por cobrar de años anteriores | B28: 266465 | C28: 4 | D28: 1/4
E29: 26118143 | F29: 7 | G29: 1/4
A31: Existencia en 31 de agosto de 1840 | E31: 957831 | F31: 5 | G31: 1/4
A33: El ingreso efectivo por contribuciones del año | E33: 1965710 | F33: 7 | G33: 1/2
A35: Por recaudo de deudas de años anteriores | E35: 235532 | F35: 6 | G35: 1/2
E37: 2201343 | F37: 5 | G37: 3/4
A39: Mariano Calbo, esposición que hace el Secretario de Estado en el Despacho de Hacienda sobre los negocios de su departamento al Congreso Constitucional de la Nueva Granada en 1841
A43: PRESUPUESTO 1841 - 1842
A45: Departamento del Interior i Relaciones Esteriores | B45: 575468 | C45: 6 | D45: 3/4
A46: Para el de Guerra | B46: 1007059 | C46: 7 | D46: 1/4
A47: Para el de Marina | B47: 178086 | C47: 4
A48: Para Hacienda | B48: 1107410 | C48: 6
A50: Total | B50: 2868026
A53: Año económico del 1º de septiembre de 1839 a 31 de agosto de 1840
C54: INGRESOS | G54: EGRESOS
A55: Ingreso de ramos ajenos
A57: Existencia del año anterior | B57: 140971 | C57: 4 | D57: 3/4
A58: Hospital de leprosos | B58: 3746 | C58: 4 | D58: 1/4 | E58: Lazaretos | F58: 7124 | G58: 6 | H58: 1/2
A59: Quinta parte de aguardientes | B59: 16861 | C59: 4 | D59: 1/2 | E59: Quinta parte de aguardientes | F59: 171300 | G59: 2 | H59: 1/4
A60: San Lázaro | B60: 3496 | C60: 4 | D60: 1/2 | E60: Desima parte de aguardientes | F60: 8442 | G60: 3 | H60: 1/4
A61: Anclaje | B61: 3444 | C61: 4 | D61: 1/2 | E61: Derecho de caminos | F61: 15410 | G61: 6 | H61: 3/4
...

Sheet 1843 Hacienda
A1: CUADRO No. 1
A2: CUENTA JENERAL
A3: DE LOS GASTOS DEL TESORO DE LA REPUBLICA I DE SUS AHORROS DESDE 1.o DE SEPTIEMBRE DE 1841 HASTA 31 DE AGOSTO DE 1942
A6: DEPARTAMENTO DEL INTERIOR I RELACIONES ESTERIORES | B6: Cantidades decretadas por la lei de 22 de Mayo de 1841. | E6: Gastado. | H6: Ahorrado.
A7: Por la 1.a cantidad del artículo 1.o de la lei de gastos. | B7: 105632 | E7: 35111 | F7: 4 | G7: =3/4 -> 0.75 | H7: 70520 | I7: 3 | J7: =1/4 -> 0.25
A8: Por la 2.a …….. | B8: 54452 | E8: 32008 | F8: 4 | G8: =3/4 -> 0.75 | H8: 22443 | I8: 3 | J8: =1/4 -> 0.25
A9: Por la 3.a …….. | B9: 47760 | C9: 6 | D9: =1/2 -> 0.5 | E9: 35793 | F9: 3 | G9: =3/4 -> 0.75 | H9: 11967 | I9: 2 | J9: =3/4 -> 0.75
A10: Por la 4.a …….. | B10: 120490 | C10: 6 | E10: 33936 | F10: 2 | G10: =1/4 -> 0.25 | H10: 86553 | I10: 5 | J10: =3/4 -> 0.75
A11: Por la 5.a …….. | B11: 80488 | C11: 6 | E11: 30369 | F11: 2 | G11: =1/4 -> 0.25 | H11: 50118 | I11: 7 | J11: =3/4 -> 0.75
A12: Por la 6.a …….. | B12: 19647 | C12: 7 | E12: 6508 | F12: 3 | G12: =3/4 -> 0.75 | H12: 13139 | I12: 3 | J12: =1/4 -> 0.25
A13: Por la 7.a …….. | B13: 5772 | C13: 7 | E13: 811 | F13: 5 | G13: =3/4 -> 0.75 | H13: 4960 | I13: 2 | J13: =1/4 -> 0.25
A14: Por la 8.a …….. | B14: 8100 | C14: 7 | E14: 811 | F14: 5 | H14: 8100 | I14: 2
A15: Por la 9.a …….. | B15: 16169 | C15: 1 | D15: =1/2 -> 0.5 | E15: 7354 | F15: 5 | G15: =1/2 -> 0.5 | H15: 8815 | I15: 1
A16: Por la 10.a …….. | B16: 31080 | C16: 1 | E16: 16163 | F16: 5 | G16: =1/2 -> 0.5 | H16: 14916 | I16: 2 | J16: =1/2 -> 0.5
A17: Por la 11.a …….. | B17: 10134 | C17: 1 | E17: 1013 | F17: 1 | G17: =1/4 -> 0.25 | H17: 9120 | I17: 6 | J17: =3/4 -> 0.75
A18: Por la 12.a …….. | B18: 34000 | C18: 1 | E18: 6850 | F18: 6 | H18: 27149 | I18: 2
A19: Por la 13.a …….. | B19: 50485 | C19: 1 | E19: 35885 | F19: 6 | G19: =1/4 -> 0.25 | H19: 14599 | I19: 7 | J19: =3/4 -> 0.75
A20: SUMA PROVISIONAL | B20: 584210 | C20: 7 | E20: 241805 | F20: 6 | G20: =3/4 -> 0.75 | H20: 342405 | I20: 7 | J20: =1/4 -> 0.25
B21: =SUM(B7:B19) -> 584209 | C21: =SUM(C7:C19) -> 44 | D21: =SUM(D7:D19) -> 1 | E21: =SUM(E7:E19) -> 242612 | F21: =SUM(F7:F19) -> 51 | G21: =SUM(G7:G19) -> 5.75 | H21: =SUM(H7:H19) -> 342399 | I21: =SUM(I7:I19) -> 45 | J21: =SUM(J7:J19) -> 5.25
A22: DEPARTAMENTO DE HACIENDA
A23: Por la 14.a …….. | B23: 12172 | C23: 1 | E23: 5336 | F23: 5 | G23: =1/2 -> 0.5 | H23: 6835 | I23: 2 | J23: =1/2 -> 0.5
A24: Por la 15.a …….. | B24: 22190 | C24: 1 | E24: 9046 | F24: 5 | H24: 13143 | I24: 3
A25: Por la 16.a …….. | B25: 14850 | C25: 1 | E25: 4375 | F25: 6 | G25: =1/2 -> 0.5 | H25: 10474 | I25: 1 | J25: =1/2 -> 0.5
A26: Por la 17.a …….. | B26: 3852 | C26: 1 | E26: 1417 | F26: 1 | G26: =3/4 -> 0.75 | H26: 2434 | I26: 6 | J26: =1/4 -> 0.25
A27: Por la 18.a …….. | B27: 5803 | C27: 1 | E27: 3127 | F27: 7 | H27: 2675 | I27: 1
A28: Por la 19.a …….. | B28: 5696 | C28: 1 | E28: 2602 | F28: 6 | H28: 3093 | I28: 2
A29: Por la 20.a …….. | B29: 3150 | C29: 1 | E29: 2602 | F29: 6 | H29: 3150 | I29: 2
A30: Por la 21.a …….. | B30: 34646 | C30: 6 | E30: 19002 | F30: 2 | H30: 15644 | I30: 4
A31: Por la 22.a …….. | B31: 34646 | C31: 6 | E31: 19002 | F31: 2 | H31: 15644 | I31: 4
A32: Por la 23.a …….. | B32: 34646 | C32: 6 | E32: 19002 | F32: 2 | H32: 15644 | I32: 4
A33: Por la 24.a …….. | B33: 20542 | C33: 6 | E33: 6803 | F33: 2 | G33: =1/4 -> 0.25 | H33: 13738 | I33: 5 | J33: =3/4 -> 0.75
A34: Por la 25.a …….. | B34: 20542 | C34: 6 | E34: 6803 | F34: 2 | H34: 13738 | I34: 5
A35: Por la 26.a …….. | B35: 20542 | C35: 6 | E35: 6803 | F35: 2 | H35: 13738 | I35: 5
A36: Por la 27.a …….. | B36: 11180 | C36: 6 | E36: 6495 | F36: 2 | H36: 4685 | I36: 5
A37: Por la 28.a …….. | B37: 65954 | C37: 5 | E37: 25834 | F37: 6 | G37: =3/4 -> 0.75 | H37: 40119 | I37: 6 | J37: =1/4 -> 0.25
A38: Por la 29.a …….. | B38: 81251 | C38: 5 | E38: 23087 | F38: 6 | G38: =1/2 -> 0.5 | H38: 58163 | I38: 7 | J38: =1/2 -> 0.5
A39: Por la 30.a …….. | B39: 47980 | C39: 5 | E39: 21815 | F39: 5 | H39: 26164 | I39: 3
A40: Por la 31.a …….. | B40: 70876 | C40: 4 | E40: 35521 | F40: 4 | G40: =1/4 -> 0.25 | H40: 35354 | I40: 7 | J40: =3/4 -> 0.75
A41: Por la 32.a …….. | B41: 5885 | C41: 7 | E41: 3742 | F41: 6 | G41: =1/4 -> 0.25 | H41: 2143 | I41: 7 | J41: =3/4 -> 0.75
A42: Por la 33.a …….. | B42: 1300 | C42: 7 | E42: 174 | F42: 7 | G42: =1/4 -> 0.25 | H42: 1125 | I42: 7 | J42: =3/4 -> 0.75
...

Sheet 1845 Hacienda
A1: CUADRO No. 1
A2: Cuadro comparativo del producto de las rentas nacionales en los dos ultimos años economicos.
A3: Ramos en que ha habido aumento. | B3: Producto de 1842 á 1843. | E3: Producto de 1843 á 1844. | H3: Diferencia a favor del último año. | K3: Diferencia en contra del último año.
A4: Renta de amonedacion | B4: 166842 | C4: 1 | D4: =3/4 -> 0.75 | E4: 173883 | F4: 6 | G4: 0.5 | H4: 7041 | I4: 4 | J4: 0.75
A5: " de salinas | B5: 288562 | C5: 1 | E5: 321986 | F5: 1 | G5: 0.75 | H5: 33424 | I5: 1 | J5: 0.75
A6: " de tabacos | B6: 784694 | C6: 5 | D6: 0.5 | E6: 820438 | F6: 4 | G6: 0.5 | H6: 35743 | I6: 7
A7: " de aguardientes | B7: 172840 | C7: 5 | D7: 0.25 | E7: 180359 | F7: 1 | G7: 0.25 | H7: 7519 | I7: 1
A8: " de hipotecas i rejistros | B8: 14076 | C8: 3 | E8: 14661 | F8: 4 | H8: 585 | I8: 1
A9: Esportacion de mineral concentrado | B9: 578 | C9: 5 | D9: 0.25 | E9: 640 | F9: 4 | G9: 0.5 | H9: 61 | I9: 3 | J9: 0.25
A10: Derecho de internacion | B10: 5599 | C10: 3 | E10: 6651 | F10: 4 | H10: 1051 | I10: 5
A11: Derecho de sello de títulos i patentes | B11: 312 | C11: 3 | E11: 842 | F11: 4 | G11: 0.25 | H11: 530 | I11: 4 | J11: 0.25
A12: Ramos en que ha habido disminución | B12: Producto de 1842 á 1843. | E12: Producto de 1843 á 1844. | H12: Diferencia a favor del último año. | K12: Diferencia en contra del último año.
A13: Aduanas | B13: 1134107 | C13: 3 | E13: 1124345 | F13: 4 | G13: 0.75 | K13: 9761 | L13: 6 | M13: 0.25
A14: Correos | B14: 80681 | C14: 1 | E14: 80462 | F14: 3 | G14: 0.75 | K14: 218 | L14: 5 | M14: 0.25
A15: Papel sellado | B15: 79539 | C15: 2 | D15: 0.5 | E15: 74480 | F15: 6 | G15: 0.25 | K15: 5058 | L15: 4 | M15: 0.25
A16: Quintos i fundicion | B16: 59508 | C16: 4 | E16: 51008 | F16: 7 | G16: 0.75 | K16: 8499 | L16: 4 | M16: 0.25
A17: Haber en diezmos | B17: 41184 | C17: 5 | E17: 36978 | F17: 6 | G17: 0.5 | K17: 4205 | L17: 6 | M17: 0.5
A18: Multas | B18: 6789 | C18: 3 | D18: 0.25 | E18: 280 | F18: 2 | G18: 0.75 | K18: 6509 | L18: 6 | M18: 0.5
A19: Emprésitos | B19: 25679 | C19: 3 | D19: 0.25 | E19: 10285 | F19: 6 | G19: 0.75 | K19: 15393 | L19: 4 | M19: 0.5
A20: Donativos | B20: 927 | C20: 5 | D20: 0.5 | K20: 927 | L20: 5 | M20: 0.5
A21: Venta de cal | B21: 887 | C21: 6 | E21: 616 | F21: 4 | G21: 0.25 | K21: 271 | L21: 1 | M21: 0.75
A22: Ramos diversos | B22: 109738 | C22: 5 | D22: 0.5 | E22: 74828 | F22: 7 | G22: 0.25 | K22: 34909 | L22: 6 | M22: 0.25
B23: 2972549 | C23: 1 | D23: 0.75 | K23: 85755 | L23: 5
B24: =SUM(B4:B22) -> 2972542 | C24: =SUM(C4:C22) -> 63 | D24: =SUM(D4:D22) -> 3.75 | K24: =SUM(K13:K22) -> 85750 | L24: =SUM(L13:L22) -> 47 | M24: =SUM(M13:M22) -> 4
A25: Diferencia á favor del año de 1843 á 1844 | B25: 201 | C25: 7 | K25: 201 | L25: 7
B26: =E28-B24 -> 200 | C26: =F28-C24 -> 10 | D26: =G28-D24 -> 4 | K26: =H28-K24 -> 204 | L26: =I28-L24 -> -21 | M26: =J28-M24 -> -2
B27: 2972751 | C27: 7 | D27: 0.75 | E27: 2972751 | F27: 7 | G27: 0.75 | H27: 85957 | I27: 4 | K27: 85957 | L27: 4
B28: =B24+B26 -> 2972742 | C28: =C24+C26 -> 73 | D28: =D24+D26 -> 7.75 | E28: =SUM(E4:E11)+SUM(E13:E22) -> 2972742 | F28: =SUM(F4:F11)+SUM(F13:F22) -> 73 | G28: =SUM(G4:G11)+SUM(G13:G22) -> 7.75 | H28: =SUM(H4:H11) -> 85954 | I28: =SUM(I4:I11) -> 26 | J28: =SUM(J4:J11) -> 2 | K28: =K24+K26 -> 85954 | L28: =L24+L26 -> 26 | M28: =M24+M26 -> 2
A32: CUADRO No. 2
A33: CUENTA JENERAL DEL TESORO DE LA NUEVA GRANADA
A34: Año económico de 1.o de septiembre de 1843 á 31 de agosto de 1844
A35: CARGO
A36: Existencia por fin de la cuenta del año anterior
A37: En billetes de amortización de moneda | E37: 20000
A38: En billetes de tesorería recibidos en pago de la quinta parte de aguardiente | E38: 2165
A39: En deudas á favor del tesoro existentes en pagares de aduana, de tesorerias i aguardientes | E39: 996625 | F39: 1 | G39: 0.5
A40: En pagares de tabaco vendido para la esportacion | E40: 2848 | F40: 2 | G40: 0.25
A41: En el valor de las cartas existentes en las administraciones de correos | E41: 3375 | F41: 7 | G41: 0.75
A42: En el valor principal i costos del tabaco existente en las administraciones i demas oficinas de la renta | E42: 382134 | F42: 3 | G42: 0.75
A43: En pagares de aduana existentes en la tesoreria de Casanare | E43: 2345 | F43: 7 | G43: 0.25
...

Sheet 1846 Hacienda
A1: CUADRO No. 1
A2: Resúmen de la cuenta jeneral de ingresos i egresos de la tesoreria jeneral i de las provinciales de hacienda en el año económico de 1844 á 1845.
A3: CARGO JENERAL.
A4: Existencia en dinero i documentos de pago en fin de agosto de 1844 | B4: Pesos | E4: 281288 | F4: 1 | G4: 3
A5: Recaudado directamente por las tesorerías, de productos del año | E5: 1017485 | F5: 3 | G5: 2
A6: Id. Por resagos de años anteriores (Id.) | E6: 141842 | F6: 1 | G6: 3
A7: Recaudado por las aduanas (Id.) | E7: 827893 | F7: 6 | G7: 3
A8: Recaudado por las oficinas de correos, de productos del año (Id.) | E8: 35099 | F8: 5 | G8: 1
A9: Id. Por resagos de años anteriores (Id.) | E9: 73 | F9: 6 | G9: 2
A10: Recaudado por las administraciones de salinas, de productos del año (Id.) | E10: 393179 | F10: 6 | G10: 2
A11: Id. Por resagos de años anteriores (Id.) | E11: 12893 | F11: 1 | G11: 3
A12: Recaudado por las administraciones de tabaco, de productos del año (Id.) | E12: 628890 | F12: 1 | G12: 1
A13: Id. Por resagos de años anteriores (Id.) | E13: 79 | F13: 2 | G13: 2
E14: 3338725 | F14: 3 | G14: 1
E15: =SUM(E4:E13) -> 3338721 | F15: =SUM(F4:F13) -> 32 | G15: =SUM(G4:G13) -> 22
A16: DATA JENERAL
A17: Viáticos, dietas i gastos del Congreso | E17: 61070 | F17: 5 | G17: 1
A18: Sueldos i gastos del Poder Ejecutivo | E18: 16199 | F18: 5 | G18: 1
A19: Id. del departamento de Relaciones Esteriores | E19: 39872 | F19: 4 | G19: 3
A20: Id. del departamento de lo Interior | E20: 322908 | F20: 3 | G20: 2
A21: Id. del departamento de Hacienda | E21: 549330 | F21: 4 | G21: 1
A22: Id. del departamento de guerra | E22: 878074 | F22: 2 | G22: 1
A23: Gastos varios de los cuatro departamentos | E23: 178749 | F23: 7 | G23: 1
A24: Gastos estraordinarios de id | E24: 51363 | F24: 4 | G24: 2
A25: Pago de deudas; á saber:
A26: Por deuda flotante | B26: 61834 | C26: 5 | D26: 2
A27: Por cartas de crédito amortizadas, de sueldos retenidos civiles i de hacienda | B27: 81831 | C27: 5 | D27: 1
A28: Por id. id. de sueldos militares | B28: 74766 | C28: 4 | D28: 1
A29: Por id. id. de la nueva deuda de suministros de guerra | B29: 66122 | C29: 2 | D29: 1
A30: Por deuda á los cosecheros de tabaco de Ambalema | B30: 59641 | C30: 5 | D30: 3
A31: Por id. de emprésitos | B31: 374464 | C31: 2 | D31: 2
A32: Por sueldos i gastos de años anteriores, subsidio para pago de intereses de la deuda consolidada interior i otros motivos | B32: 125340 | C32: 2 | D32: 2
A33: Por reintegros á la renta de diezmos, de suplementos para la del tabaco | B33: 74197 | C33: 1 | D33: 1
A34: Por id. particulares | B34: 2129 | C34: 1 | D34: 1 | E34: 920327 | F34: 4 | G34: 2
E35: =+SUM(B26:B34) -> 920324 | F35: =+SUM(C26:C34) -> 27 | G35: =+SUM(D26:D34) -> 14
E36: 3017897 | F36: 4 | G36: 1
E37: =E17+E18+E19+E20+E21+E22+E23+E24+B26+B27+B28+B29+B30+B31+B32+B33+B34 -> 3017889 | F37: =F17+F18+F19+F20+F21+F22+F23+F24+C26+C27+C28+C29+C30+C31+C32+C33+C34 -> 61 | G37: =G17+G18+G19+G20+G21+G22+G23+G24+D26+D27+D28+D29+D30+D31+D32+D33+D34 -> 26
A38: Cargo jeneral | E38: 3338725 | F38: 3 | G38: 1
A39: Data jeneral | E39: 3017897 | F39: 3 | G39: 1
A40: Existencia que debia resultar | E40: 320828 | F40: 3 | G40: 1
...

Sheet 1849 Hacienda
A1: CUADRO No. 1
A2: CONTRIBUCIONES NACIONALES A CARGO DEL DIRECTOR JENERAL DE VENTAS
A3: Año economico finalizado en 31 de agosto de 1848
A4: Derechos causados a favor de dichas rentas
A5: DEJÓ DE RECAUDARSE
A6: En el año de 1845 a 1846 | B6: 28349 | C6: 75
A7: En el año de 1846 a 1847 | B7: 257128 | C7: 25
D8: 285478 | E8: 0
A9: Componen | D9: 15052193 | E9: 3
A10: Deducido lo recaudado por los años de 1845 a 1847 | B10: 116587
A11: De lo recaudado por el año de 47 a 48 | B11: 14579243 | C11: 32
D12: 14695830 | E12: 32
A13: Quedó por recaudar en fin del año | D13: 356362 | E13: 71
A14: A saber:
A15: Por los años de 45 a 47 | B15: 168891
A16: Por el año de 47 a 48 | B16: 187471 | C16: 71
D17: 356362 | E17: 71
A18: Ascendió lo causado a deber en el mismo año económico por las rentas que están bajo la Direccion de Impuestos según los datos que han podido adquirirse a la suma de | D18: 11048772 | E18: 96
A19: Que unida a las de años anteriores | D19: 8065899 | E19: 17
A20: Suma | D20: 19114672 | E20: 13
A21: De que se ha recaudado | D21: 10016677 | E21: 40
A22: I quedan en saldo por recaudar a favor del Tesero | D22: 9097994 | E22: 40
A23: Ingreso efectivo en el Tesoro por las diferentes contribuciones
A24: Por ventas | D24: 14695830 | E24: 32
A25: Por impuestos | D25: 10016677 | E25: 40
A26: Suman | D26: 24712507 | E26: 72

Sheet 1852 HACIENDA
A1: Por los balances del Mayor de la contabilidad general para el año económico de Hacienda de 47 a 48, que acompaño al presente informe número 1o, paraece que la cuenta denominada Capital del Tesoro dio un saldo favorable de reales | B1: 4365408 | C1: 60
A3: En esta forma:
A5: Salfos a favor del Tesoro Rs. | B5: 17393888 | C5: 50 | D5: 13/24
A6: Por deudas de contribuyentes por recaudar en 31 de agosto de 1848. Correspondientes a rentas causadas a deber antes de 1o de septiembre de 1846 | B6: 3515727 | C6: 22
A7: Correspondientes a rentas de 1846 a 1847 | B7: 462078 | C7: 35
A8: Correspondientes a rentas de 1847 a 1848 | B8: 5713399 | C8: 62
A9: Total de las rentas por recaudar en 31 de agosto de 1848 | B9: 9691205 | C9: 49 | D9: 13/24
A11: Además los siguientes:
A12: En poder de corresponsables de la extinguida Tesoreria General de la República | B12: 80000 | C12: 25
A13: En recibos de anticipaciones de sueldos y otras anticipaciones | B13: 1605293 | C13: 67
A14: En alcances por pagar deducidos contra empleados y otras acreeencias | B14: 840811 | C14: 23
A15: En el principal de la deuda de Rafael Garcia Tejada | B15: 76000
A16: En poder de Baring Hermanos y Compañía | B16: 572441 | C16: 87
A17: En letras por cobrar | B17: 31403
A18: En las cajas de los responsables del erario | B18: 3282199 | C18: 3
A19: En vías de una a otras cajas | B19: 1153062 | C19: 77
A20: En fallas en remesas | B20: 61471 | C20: 17
A21: Activo del Tesoro en 31 de agosto de 1848 | B21: 17393888 | C21: 50 | D21: 13/24
A23: Saldos en contra del Tesoro | B23: 14297088 | C23: 57
A24: Por deudas de contribuyentes por recaudar en 31 de agosto de 1848 en esta forma:
A25: Por servicios prestados antes del 1o de septiembre de 1846 | B25: 321333 | C25: 14
A26: Por servicios prestados en el año económico de 1846 a 1847 | B26: 1140995 | C26: 29
A27: Por servicios prestados en el año económico de 1847 a 1848 | B27: 6094201 | C27: 53
A29: Totoal de los gastos por pagar en 31 de agosto de 1848 | B29: 7556529 | C29: 97
A30: Además, había en contra del Tesoro en el mismo día 31 de agosto de 1848 los siguientes saldos:
A31: Adeudado a corresponsables del erario | B31: 1144577 | C31: 73
A32: A varios responsables del erario | B32: 21635 | C32: 55
A33: A Juan de Francisco Martín, Wilson y Schloos su cuena de empréstito de 1,216,000 reales, resto de capital | B33: 448054 | C33: 84
A34: A Juan de Francisco Martín, Wilson y Schloos su cuena de empréstito al seis por ciento, resto de capital | B34: 379775 | C34: 92
A35: A Powles, Wilson y Compañía su cuenta de empréstito al uno por ciiento, resto de capital | B35: 407675 | C35: 75
A36: A los mismos su cuento de seis décimos en el empréstico de un millón de reales, resto de capital | B36: 204618
A37: A Montoya, Sáenz y Compañía, su cuenta de cuadro décimos en el mismo empréstito, resto de capital | B37: 136412
A38: Por capital de vales flotantes | B38: 107937 | C38: 22
A39: De nueva deuda adminsible en pago de contribuciones | B39: 99475 | C39: 86
A40: De billetes de la extinguida Tesoreria General de la República | B40: 960
A41: De billetes de amortización de macuquina | B41: 23000
A42: De créditos librados de la extinguida Tesoreria General | B42: 4216 | C42: 50
A43: De empréstito voluntario | B43: 3775 | C43: 25
A44: De cartas de nueva deuda por empréstitos y suministros | B44: 218312 | C44: 63
A45: De cartas de créditos civiles | B45: 1587897 | C45: 46
...

Sheet 1853 Hacienda
A1: CUADRO No. 1
A2: Comparativo de las rentas descentralizadas, con los gastos que son a cargo de las provincias a virtud de la lei de 20 de abril de 1850, o conforme a los respectivos Presupuestos de gastos, i a las distribuciones hechas por el Poder Ejecutivo.
A3: RENTAS DESCENTRALIZADAS
A4: Aguardientes (Presupuesto Nacional) | B4: 1464700
A5: Diezmos (Presupuesto Nacional) | B5: 2500000
A6: Exportacion de mineral concentrado (P. N.) | B6: 20000
A7: Hipotecas i Rejistros (P. N.) | B7: 170000
A8: Internacion de mercancias (P. N.) | B8: 37000
A9: Idem de sales (P. N.) | B9: 4600
A10: Quintos de oro (P. N.) | B10: 850000 | D10: 5046300
D11: =SUM(B4:B10) -> 5046300
A12: GASTOS NACIONALES A CARGO DE LAS PROVINCIAS.
A13: Gobernacion (Personal i Material) | B13: 931552 | C13: (a )
A14: Tribunales (P. i M.) | B14: 570835 | C14: (b )
A15: Ministerio público (Fiscales) | B15: 170432
A16: Culto (distribucion del Poder Ejecutivo) | B16: 692209 | C16: (c )
A17: Judicaturas de circuito (P. i M.) fijo de 26 provincias) | B17: 869131 | C17: (d )
A18: Idem de idem (aproximacion de 9 provincias | B18: 77400 | C18: (e ) | D18: 3311559
A19: Diferencia a favor de las rentas provinciales | D19: 1734559
D20: =SUM(B13:B18) -> 3311559
D21: =D11-D20 -> 1734741
A22: NOTAS. (a ) En esta suma se comprende la de 219,600 reales en que se calculan aproximativamente los gastos de Personal i Material de las Gobernaciones de las provoncias. últimamente creadas, tomando por base el gasto de una de las antiguas menores.
A23: (b ) Monto de los gastos fijos de 22 Tribunales extablecidos en la República, según las dotaciones que señala la lei i las alteraciones que han hecho en los sueldos i gastos de Material de cada uno, las Camaras de provincia en virtud de las facultades que les confiere la lei de 20 de abril de 1850.
A24: (c ) Solamente Arzobispo, Obispos y Catedrales, (Personal i Material), pues los Curas de almas aunque son pagados las rentas provinciales, no es gasto que hacen por consecuencia de las rentas cedidas.
A25: (d ) Gastos conocidos de las Judicaturas de 26 provincias de que hai datos.
A26: (e ) Gastos por aproximacion de la Judicaturas de nueve provincias de que no se han recibido datos.

Sheet 1858 Hacienda
A1: INFORME: ESPOSICION QUE EL SECRETARIO DE ESTADO DEL DESPACHO DE HACIENDA 1858
A3: CUADRO No. 1
A4: INGRESOS que ha habido en la República, correspondientes a los años económicos de 1851 a 1855, según aparece de la cuenta jeneral del presupuesto i del Tesoro, en dicha época.
A5: RENTAS | B5: 1851. | D5: 1852. | F5: 1853. | H5: 1854. | J5: 1855. | L5: Totales
A6: Aduanas $ | B6: 710056 | C6: 190 | D6: 714977 | E6: 437 | F6: 1064775 | G6: 400 | H6: 347673 | I6: 114 | J6: 753994 | K6: 975 | L6: 3591477 | M6: 116 | N6: =B6+D6+F6+H6+J6 -> 3591475 | O6: =C6+E6+G6+I6+K6 -> 2116
A7: Aguardientes | B7: 45422 | C7: 655 | L7: 45422 | M7: 655 | N7: =B7+D7+F7+H7+J7 -> 45422 | O7: =C7+E7+G7+I7+K7 -> 655
A8: Arriendo de minas | B8: 15949 | C8: 650 | D8: 14200 | F8: 14316 | G8: 825 | H8: 12366 | I8: 825 | J8: 12319 | K8: 525 | L8: 69152 | M8: 825 | N8: =B8+D8+F8+H8+J8 -> 69150 | O8: =C8+E8+G8+I8+K8 -> 2825
A9: Bienes nacionales | B9: 19232 | C9: 680 | D9: 24991 | E9: 948 | F9: 14839 | G9: 435 | H9: 56215 | I9: 375 | J9: 29046 | K9: 990 | L9: 144326 | M9: 828 | N9: =B9+D9+F9+H9+J9 -> 144323 | O9: =C9+E9+G9+I9+K9 -> 3428
A10: Caminos | B10: 15486 | C10: 542 | F10: 11388 | G10: 900 | H10: 1355 | I10: 425 | J10: 366 | K10: 850 | L10: 28597 | M10: 617 | N10: =B10+D10+F10+H10+J10 -> 28595 | O10: =C10+E10+G10+I10+K10 -> 2717
A11: Censos, alquileres i premios | B11: 9157 | C11: 494 | D11: 18709 | E11: 597 | F11: 14365 | G11: 771 | H11: 19314 | I11: 825 | J11: 10492 | K11: 30 | L11: 72039 | M11: 717 | N11: =B11+D11+F11+H11+J11 -> 72037 | O11: =C11+E11+G11+I11+K11 -> 2717
A12: Correos | B12: 127767 | C12: 302 | D12: 64937 | E12: 840 | F12: 62979 | G12: 100 | H12: 53582 | I12: 650 | J12: 49035 | K12: 995 | L12: 358302 | M12: 887 | N12: =B12+D12+F12+H12+J12 -> 358300 | O12: =C12+E12+G12+I12+K12 -> 2887
A13: Diezmos | B13: 88580 | C13: 801 | L13: 88580 | M13: 801 | N13: =B13+D13+F13+H13+J13 -> 88580 | O13: =C13+E13+G13+I13+K13 -> 801
A14: Hipotecas i rejistros | B14: 5577 | C14: 604 | L14: 5577 | M14: 604 | N14: =B14+D14+F14+H14+J14 -> 5577 | O14: =C14+E14+G14+I14+K14 -> 604
A15: Internacion de sales | B15: 1302 | C15: 800 | F15: 242 | H15: 123 | I15: 220 | L15: 1668 | M15: 20 | N15: =B15+D15+F15+H15+J15 -> 1667 | O15: =C15+E15+G15+I15+K15 -> 1020
A16: Impuestos varios | B16: 9253 | C16: 524 | D16: 20735 | E16: 39 | F16: 3214 | G16: 687 | H16: 9101 | I16: 925 | J16: 5237 | K16: 525 | L16: 47542 | M16: 700 | N16: =B16+D16+F16+H16+J16 -> 47540 | O16: =C16+E16+G16+I16+K16 -> 2700
A17: Monedas | B17: 26062 | C17: 813 | D17: 26734 | E17: 289 | F17: 18131 | G17: 504 | H17: 6484 | I17: 157 | J17: 14412 | K17: 52 | L17: 91824 | M17: 815 | N17: =B17+D17+F17+H17+J17 -> 91823 | O17: =C17+E17+G17+I17+K17 -> 1815
A18: Multas | B18: 489 | C18: 375 | D18: 281 | E18: 975 | F18: 308 | G18: 190 | H18: 55 | I18: 800 | J18: 23 | K18: 300 | L18: 1158 | M18: 640 | N18: =B18+D18+F18+H18+J18 -> 1156 | O18: =C18+E18+G18+I18+K18 -> 2640
A19: Papel sellado | B19: 67671 | C19: 143 | D19: 72381 | E19: 750 | F19: 78585 | G19: 303 | H19: 59107 | I19: 75 | J19: 62560 | K19: 155 | L19: 340305 | M19: 420 | N19: =B19+D19+F19+H19+J19 -> 340304 | O19: =C19+E19+G19+I19+K19 -> 1426
A20: Pensiones civiles | B20: 6292 | C20: 365 | D20: 4239 | E20: 172 | F20: 5882 | H20: 7 | I20: 45 | L20: 16420 | M20: 582 | N20: =B20+D20+F20+H20+J20 -> 16420 | O20: =C20+E20+G20+I20+K20 -> 582
A21: Producto de rentas sin determinar | B21: 7523 | C21: 854 | D21: 13562 | E21: 375 | F21: 193 | G21: 132 | J21: 131 | K21: 125 | L21: 21410 | M21: 486 | N21: =B21+D21+F21+H21+J21 -> 21409 | O21: =C21+E21+G21+I21+K21 -> 1486
A22: Quintos i fundicion | B22: 18498 | C22: 595 | L22: 18498 | M22: 595 | N22: =B22+D22+F22+H22+J22 -> 18498 | O22: =C22+E22+G22+I22+K22 -> 595
A23: Redencion de censos | B23: 37176 | C23: 250 | D23: 295720 | E23: 482 | F23: 235276 | G23: 150 | H23: 87763 | I23: 235 | J23: 108756 | K23: 260 | L23: 764692 | M23: 377 | N23: =B23+D23+F23+H23+J23 -> 764691 | O23: =C23+E23+G23+I23+K23 -> 1377
